FILENAME: O4810922.SES.1115685.tif
QUADRANGLE_NAME: TELESCOPE COULEE
QUADRANT: SE
WEST_LONGITUDE: -109 18 45.00000
EAST_LONGITUDE: -109 15 0.00000
NORTH_LATITUDE: 48 41 15.00000
SOUTH_LATITUDE: 48 37 30.00000
PRODUCTION_DATE: 2000 10 30
RASTER_ORDER: LEFT_RIGHT/TOP_BOTTOM
BAND_ORGANIZATION: SINGLE FILE
BAND_CONTENT: BLACK&WHITE
BAND_CONTENT: UNDEFINED
BAND_CONTENT: UNDEFINED
BITS_PER_PIXEL: 8
SAMPLES_AND_LINES: 5416 7655
HORIZONTAL_DATUM: NAD83
HORIZONTAL_COORDINATE_SYSTEM: UTM
COORDINATE_ZONE: 12
HORIZONTAL_UNITS: METERS
HORIZONTAL_RESOLUTION: 1.00000
SECONDARY_HORIZONTAL_DATUM: NAD27
XY_ORIGIN: 623841.00000 5394496.00000
SECONDARY_XY_ORIGIN: 623898.90600 5394277.89500
NATION: US
NATION: "SCIENCE
STATE: MT
NW_QUAD_CORNER_XY: 624196.05300 5394091.52400
NE_QUAD_CORNER_XY: 628795.72800 5394195.19500
SE_QUAD_CORNERY_XY: 628955.07700 5387248.19200
SW_QUAD_CORNER_XY: 624349.70900 5387144.49200
SECONDARY_NW_QUAD_XY: 624200.01700 5393872.57500
SECONDARY_NE_QUAD_XY: 628799.83900 5393976.24900
SECONDARY_SE_QUAD_XY: 628959.18800 5387029.25200
SECONDARY_SW_QUAD_XY: 624353.67200 5386925.54900
RMSE_XY: 2.00000
IMAGE_SOURCE: BLACK AND WHITE FILM
SOURCE_IMAGE_ID: NAPP 9145 077
SOURCE_IMAGE_DATE: 1996 08 25
SOURCE_IMAGE_ID: NAPP 9145 076
SOURCE_IMAGE_DATE: 1996 08 25
SOURCE_DEM_DATE: 1993 00 00
AGENCY: WESTERN MAPPING CENTER (WMC)
PRODUCER: UNDEFINED
PRODUCTION_SYSTEM: GIS/MAGIC
COMPRESSION: UNDEFINED
STANDARD_VERSION: 1996 12
METADATA_DATE: 2000 11 10
DATA_FILE_SIZE: 41464896
BYTE_COUNT: 5416
