FILENAME: O4810920.NWS.1119787.tif
QUADRANGLE_NAME: HAVRE NE
QUADRANT: NW
WEST_LONGITUDE: -109 37 30.00000
EAST_LONGITUDE: -109 33 45.00000
NORTH_LATITUDE: 48 45 0.00000
SOUTH_LATITUDE: 48 41 15.00000
PRODUCTION_DATE: 2000 10 25
RASTER_ORDER: LEFT_RIGHT/TOP_BOTTOM
BAND_ORGANIZATION: SINGLE FILE
BAND_CONTENT: BLACK&WHITE
BAND_CONTENT: UNDEFINED
BAND_CONTENT: UNDEFINED
BITS_PER_PIXEL: 8
SAMPLES_AND_LINES: 5384 7635
HORIZONTAL_DATUM: NAD83
HORIZONTAL_COORDINATE_SYSTEM: UTM
COORDINATE_ZONE: 12
HORIZONTAL_UNITS: METERS
HORIZONTAL_RESOLUTION: 1.00000
SECONDARY_HORIZONTAL_DATUM: NAD27
XY_ORIGIN: 600715.00000 5400962.00000
SECONDARY_XY_ORIGIN: 600773.33300 5400743.56900
NATION: US
NATION: "SCIENCE
STATE: MT
NW_QUAD_CORNER_XY: 601072.09800 5400576.97000
NE_QUAD_CORNER_XY: 605666.16200 5400661.76100
SE_QUAD_CORNERY_XY: 605797.17200 5393714.55400
SW_QUAD_CORNER_XY: 601197.41000 5393629.73900
SECONDARY_NW_QUAD_XY: 601075.32800 5400358.00100
SECONDARY_NE_QUAD_XY: 605669.53900 5400442.79400
SECONDARY_SE_QUAD_XY: 605800.54900 5393495.59200
SECONDARY_SW_QUAD_XY: 601200.64000 5393410.77500
RMSE_XY: 1.10000
IMAGE_SOURCE: BLACK AND WHITE FILM
SOURCE_IMAGE_ID: NAPP 9159 173
SOURCE_IMAGE_DATE: 1997 09 22
SOURCE_DEM_DATE: 1993 00 00
AGENCY: WESTERN MAPPING CENTER (WMC)
PRODUCER: UNDEFINED
PRODUCTION_SYSTEM: GIS/MAGIC
COMPRESSION: UNDEFINED
STANDARD_VERSION: 1996 12
METADATA_DATE: 2000 11 09
DATA_FILE_SIZE: 41112224
BYTE_COUNT: 5384
