FILENAME: O4810919.SWS.1119776.tif
QUADRANGLE_NAME: HAVRE NW
QUADRANT: SW
WEST_LONGITUDE: -109 45 0.00000
EAST_LONGITUDE: -109 41 15.00000
NORTH_LATITUDE: 48 41 15.00000
SOUTH_LATITUDE: 48 37 30.00000
PRODUCTION_DATE: 2000 10 25
RASTER_ORDER: LEFT_RIGHT/TOP_BOTTOM
BAND_ORGANIZATION: SINGLE FILE
BAND_CONTENT: BLACK&WHITE
BAND_CONTENT: UNDEFINED
BAND_CONTENT: UNDEFINED
BITS_PER_PIXEL: 8
SAMPLES_AND_LINES: 5378 7628
HORIZONTAL_DATUM: NAD83
HORIZONTAL_COORDINATE_SYSTEM: UTM
COORDINATE_ZONE: 12
HORIZONTAL_UNITS: METERS
HORIZONTAL_RESOLUTION: 1.00000
SECONDARY_HORIZONTAL_DATUM: NAD27
XY_ORIGIN: 591641.00000 5393849.00000
SECONDARY_XY_ORIGIN: 591699.63800 5393630.75100
NATION: US
NATION: "SCIENCE
STATE: MT
NW_QUAD_CORNER_XY: 591997.84100 5393471.42100
NE_QUAD_CORNER_XY: 596597.63300 5393548.69400
SE_QUAD_CORNERY_XY: 596717.13100 5386601.51200
SW_QUAD_CORNER_XY: 592111.64700 5386524.21700
SECONDARY_NW_QUAD_XY: 592000.77700 5393252.45200
SECONDARY_NE_QUAD_XY: 596600.71600 5393329.72800
SECONDARY_SE_QUAD_XY: 596720.21400 5386382.55200
SECONDARY_SW_QUAD_XY: 592114.58300 5386305.25400
RMSE_XY: 1.80000
IMAGE_SOURCE: BLACK AND WHITE FILM
SOURCE_IMAGE_ID: NAPP 9160 071
SOURCE_IMAGE_DATE: 1997 09 23
SOURCE_DEM_DATE: 1963 00 00
AGENCY: WESTERN MAPPING CENTER (WMC)
PRODUCER: UNDEFINED
PRODUCTION_SYSTEM: GIS/MAGIC
COMPRESSION: UNDEFINED
STANDARD_VERSION: 1996 12
METADATA_DATE: 2000 12 21
DATA_FILE_SIZE: 41028762
BYTE_COUNT: 5378
