FILENAME: O4810918.SES.1119735.tif
QUADRANGLE_NAME: QUIGLEY COULEE
QUADRANT: SE
WEST_LONGITUDE: -109 48 45.00000
EAST_LONGITUDE: -109 45 0.00000
NORTH_LATITUDE: 48 41 15.00000
SOUTH_LATITUDE: 48 37 30.00000
PRODUCTION_DATE: 2000 10 25
RASTER_ORDER: LEFT_RIGHT/TOP_BOTTOM
BAND_ORGANIZATION: SINGLE FILE
BAND_CONTENT: BLACK&WHITE
BAND_CONTENT: UNDEFINED
BAND_CONTENT: UNDEFINED
BITS_PER_PIXEL: 8
SAMPLES_AND_LINES: 5372 7625
HORIZONTAL_DATUM: NAD83
HORIZONTAL_COORDINATE_SYSTEM: UTM
COORDINATE_ZONE: 12
HORIZONTAL_UNITS: METERS
HORIZONTAL_RESOLUTION: 1.00000
SECONDARY_HORIZONTAL_DATUM: NAD27
XY_ORIGIN: 587041.00000 5393772.00000
SECONDARY_XY_ORIGIN: 587099.59400 5393553.76900
NATION: US
NATION: "SCIENCE
STATE: MT
NW_QUAD_CORNER_XY: 587398.03500 5393397.91800
NE_QUAD_CORNER_XY: 591997.84100 5393471.42100
SE_QUAD_CORNERY_XY: 592111.64700 5386524.21700
SW_QUAD_CORNER_XY: 587506.15000 5386450.69400
SECONDARY_NW_QUAD_XY: 587400.82400 5393178.94600
SECONDARY_NE_QUAD_XY: 592000.77700 5393252.45200
SECONDARY_SE_QUAD_XY: 592114.58300 5386305.25400
SECONDARY_SW_QUAD_XY: 587508.93900 5386231.72800
RMSE_XY: 0.60000
IMAGE_SOURCE: BLACK AND WHITE FILM
SOURCE_IMAGE_ID: NAPP 9128 111
SOURCE_IMAGE_DATE: 1996 07 29
SOURCE_DEM_DATE: 1969 00 00
AGENCY: WESTERN MAPPING CENTER (WMC)
PRODUCER: UNDEFINED
PRODUCTION_SYSTEM: GIS/MAGIC
COMPRESSION: UNDEFINED
STANDARD_VERSION: 1996 12
METADATA_DATE: 2000 11 09
DATA_FILE_SIZE: 40966872
BYTE_COUNT: 5372
