FILENAME: O4810913.SES.1119822.tif
QUADRANGLE_NAME: MCLAREN RESERVOIR
QUADRANT: SE
WEST_LONGITUDE: -109 26 15.00000
EAST_LONGITUDE: -109 22 30.00000
NORTH_LATITUDE: 48 48 45.00000
SOUTH_LATITUDE: 48 45 0.00000
PRODUCTION_DATE: 2000 10 17
RASTER_ORDER: LEFT_RIGHT/TOP_BOTTOM
BAND_ORGANIZATION: SINGLE FILE
BAND_CONTENT: BLACK&WHITE
BAND_CONTENT: UNDEFINED
BAND_CONTENT: UNDEFINED
BITS_PER_PIXEL: 8
SAMPLES_AND_LINES: 5394 7646
HORIZONTAL_DATUM: NAD83
HORIZONTAL_COORDINATE_SYSTEM: UTM
COORDINATE_ZONE: 12
HORIZONTAL_UNITS: METERS
HORIZONTAL_RESOLUTION: 1.00000
SECONDARY_HORIZONTAL_DATUM: NAD27
XY_ORIGIN: 614356.00000 5408186.00000
SECONDARY_XY_ORIGIN: 614413.86400 5407967.45300
NATION: US
NATION: "SCIENCE
STATE: MT
NW_QUAD_CORNER_XY: 614711.69700 5407789.87900
NE_QUAD_CORNER_XY: 619300.00600 5407885.95200
SE_QUAD_CORNERY_XY: 619448.25400 5400938.75300
SW_QUAD_CORNER_XY: 614854.24100 5400842.65200
SECONDARY_NW_QUAD_XY: 614715.36700 5407570.91400
SECONDARY_NE_QUAD_XY: 619303.82300 5407666.99000
SECONDARY_SE_QUAD_XY: 619452.07200 5400719.79600
SECONDARY_SW_QUAD_XY: 614857.91200 5400623.69200
RMSE_XY: 0.90000
IMAGE_SOURCE: BLACK AND WHITE FILM
SOURCE_IMAGE_ID: NAPP 9156 118
SOURCE_IMAGE_DATE: 1997 08 29
SOURCE_DEM_DATE: 1993 00 00
AGENCY: WESTERN MAPPING CENTER (WMC)
PRODUCER: UNDEFINED
PRODUCTION_SYSTEM: GIS/MAGIC
COMPRESSION: UNDEFINED
STANDARD_VERSION: 1996 12
METADATA_DATE: 2000 11 09
DATA_FILE_SIZE: 41247918
BYTE_COUNT: 5394
