FILENAME: O4810913.SWS.1119823.tif
QUADRANGLE_NAME: MCLAREN RESERVOIR
QUADRANT: SW
WEST_LONGITUDE: -109 30 0.00000
EAST_LONGITUDE: -109 26 15.00000
NORTH_LATITUDE: 48 48 45.00000
SOUTH_LATITUDE: 48 45 0.00000
PRODUCTION_DATE: 2000 10 17
RASTER_ORDER: LEFT_RIGHT/TOP_BOTTOM
BAND_ORGANIZATION: SINGLE FILE
BAND_CONTENT: BLACK&WHITE
BAND_CONTENT: UNDEFINED
BAND_CONTENT: UNDEFINED
BITS_PER_PIXEL: 8
SAMPLES_AND_LINES: 5389 7643
HORIZONTAL_DATUM: NAD83
HORIZONTAL_COORDINATE_SYSTEM: UTM
COORDINATE_ZONE: 12
HORIZONTAL_UNITS: METERS
HORIZONTAL_RESOLUTION: 1.00000
SECONDARY_HORIZONTAL_DATUM: NAD27
XY_ORIGIN: 609767.00000 5408090.00000
SECONDARY_XY_ORIGIN: 609824.98600 5407871.42700
NATION: US
NATION: "SCIENCE
STATE: MT
NW_QUAD_CORNER_XY: 610123.37000 5407697.57400
NE_QUAD_CORNER_XY: 614711.69700 5407789.87900
SE_QUAD_CORNERY_XY: 614854.24100 5400842.65200
SW_QUAD_CORNER_XY: 610260.21000 5400750.32200
SECONDARY_NW_QUAD_XY: 610126.89400 5407478.60700
SECONDARY_NE_QUAD_XY: 614715.36700 5407570.91400
SECONDARY_SE_QUAD_XY: 614857.91200 5400623.69200
SECONDARY_SW_QUAD_XY: 610263.73400 5400531.35800
RMSE_XY: 2.00000
IMAGE_SOURCE: BLACK AND WHITE FILM
SOURCE_IMAGE_ID: NAPP 9159 059
SOURCE_IMAGE_DATE: 1997 09 22
SOURCE_DEM_DATE: 1993 00 00
AGENCY: WESTERN MAPPING CENTER (WMC)
PRODUCER: UNDEFINED
PRODUCTION_SYSTEM: GIS/MAGIC
COMPRESSION: UNDEFINED
STANDARD_VERSION: 1996 12
METADATA_DATE: 2000 11 09
DATA_FILE_SIZE: 41193516
BYTE_COUNT: 5389
