FILENAME: O4810910.SWS.1119728.tif
QUADRANGLE_NAME: HILLDALE COLONY
QUADRANT: SW
WEST_LONGITUDE: -109 52 30.00000
EAST_LONGITUDE: -109 48 45.00000
NORTH_LATITUDE: 48 48 45.00000
SOUTH_LATITUDE: 48 45 0.00000
PRODUCTION_DATE: 2000 10 25
RASTER_ORDER: LEFT_RIGHT/TOP_BOTTOM
BAND_ORGANIZATION: SINGLE FILE
BAND_CONTENT: BLACK&WHITE
BAND_CONTENT: UNDEFINED
BAND_CONTENT: UNDEFINED
BITS_PER_PIXEL: 8
SAMPLES_AND_LINES: 5355 7621
HORIZONTAL_DATUM: NAD83
HORIZONTAL_COORDINATE_SYSTEM: UTM
COORDINATE_ZONE: 12
HORIZONTAL_UNITS: METERS
HORIZONTAL_RESOLUTION: 1.00000
SECONDARY_HORIZONTAL_DATUM: NAD27
XY_ORIGIN: 582236.00000 5407593.00000
SECONDARY_XY_ORIGIN: 582294.26000 5407374.36600
NATION: US
NATION: "SCIENCE
STATE: MT
NW_QUAD_CORNER_XY: 582593.07100 5407222.88900
NE_QUAD_CORNER_XY: 587181.49000 5407292.58300
SE_QUAD_CORNERY_XY: 587289.81500 5400345.21400
SW_QUAD_CORNER_XY: 582695.69300 5400275.50000
SECONDARY_NW_QUAD_XY: 582595.71300 5407003.90600
SECONDARY_NE_QUAD_XY: 587184.28000 5407073.60200
SECONDARY_SE_QUAD_XY: 587292.60400 5400126.23700
SECONDARY_SW_QUAD_XY: 582698.33500 5400056.52200
RMSE_XY: 1.90000
IMAGE_SOURCE: BLACK AND WHITE FILM
SOURCE_IMAGE_ID: NAPP 9128 214
SOURCE_IMAGE_DATE: 1996 07 29
SOURCE_DEM_DATE: 1993 00 00
AGENCY: WESTERN MAPPING CENTER (WMC)
PRODUCER: UNDEFINED
PRODUCTION_SYSTEM: GIS/MAGIC
COMPRESSION: UNDEFINED
STANDARD_VERSION: 1996 12
METADATA_DATE: 2000 11 30
DATA_FILE_SIZE: 40815810
BYTE_COUNT: 5355
