FILENAME: O4810909.SWS.1115151.tif
QUADRANGLE_NAME: COTTONWOOD
QUADRANT: SW
WEST_LONGITUDE: -110 0 0.00000
EAST_LONGITUDE: -109 56 15.00000
NORTH_LATITUDE: 48 48 45.00000
SOUTH_LATITUDE: 48 45 0.00000
PRODUCTION_DATE: 2000 10 24
RASTER_ORDER: LEFT_RIGHT/TOP_BOTTOM
BAND_ORGANIZATION: SINGLE FILE
BAND_CONTENT: BLACK&WHITE
BAND_CONTENT: UNDEFINED
BAND_CONTENT: UNDEFINED
BITS_PER_PIXEL: 8
SAMPLES_AND_LINES: 5344 7613
HORIZONTAL_DATUM: NAD83
HORIZONTAL_COORDINATE_SYSTEM: UTM
COORDINATE_ZONE: 12
HORIZONTAL_UNITS: METERS
HORIZONTAL_RESOLUTION: 1.00000
SECONDARY_HORIZONTAL_DATUM: NAD27
XY_ORIGIN: 573059.00000 5407457.00000
SECONDARY_XY_ORIGIN: 573117.23100 5407238.28400
NATION: US
NATION: "SCIENCE
STATE: MT
NW_QUAD_CORNER_XY: 573416.19300 5407094.80600
NE_QUAD_CORNER_XY: 578004.63800 5407156.96400
SE_QUAD_CORNERY_XY: 578101.55800 5400209.55600
SW_QUAD_CORNER_XY: 573507.41100 5400147.38100
SECONDARY_NW_QUAD_XY: 573418.54200 5406875.81900
SECONDARY_NE_QUAD_XY: 578007.13400 5406937.97900
SECONDARY_SE_QUAD_XY: 578104.05300 5399990.57500
SECONDARY_SW_QUAD_XY: 573509.76000 5399928.39800
RMSE_XY: 1.30000
IMAGE_SOURCE: BLACK AND WHITE FILM
SOURCE_IMAGE_ID: NAPP 9158 043
SOURCE_IMAGE_DATE: 1997 09 04
SOURCE_DEM_DATE: 1993 00 00
AGENCY: WESTERN MAPPING CENTER (WMC)
PRODUCER: UNDEFINED
PRODUCTION_SYSTEM: GIS/MAGIC
COMPRESSION: UNDEFINED
STANDARD_VERSION: 1996 12
METADATA_DATE: 2000 11 29
DATA_FILE_SIZE: 40689216
BYTE_COUNT: 5344
