FILENAME: O4810901.SES.1115146.tif
QUADRANGLE_NAME: WILD HORSE LAKE EAST
QUADRANT: SE
WEST_LONGITUDE: -109 56 15.00000
EAST_LONGITUDE: -109 52 30.00000
NORTH_LATITUDE: 48 56 15.00000
SOUTH_LATITUDE: 48 52 30.00000
PRODUCTION_DATE: 2000 10 25
RASTER_ORDER: LEFT_RIGHT/TOP_BOTTOM
BAND_ORGANIZATION: SINGLE FILE
BAND_CONTENT: BLACK&WHITE
BAND_CONTENT: UNDEFINED
BAND_CONTENT: UNDEFINED
BITS_PER_PIXEL: 8
SAMPLES_AND_LINES: 5338 7616
HORIZONTAL_DATUM: NAD83
HORIZONTAL_COORDINATE_SYSTEM: UTM
COORDINATE_ZONE: 12
HORIZONTAL_UNITS: METERS
HORIZONTAL_RESOLUTION: 1.00000
SECONDARY_HORIZONTAL_DATUM: NAD27
XY_ORIGIN: 577454.00000 5421418.00000
SECONDARY_XY_ORIGIN: 577511.91900 5421198.83200
NATION: US
NATION: "SCIENCE
STATE: MT
NW_QUAD_CORNER_XY: 577810.51800 5421051.99800
NE_QUAD_CORNER_XY: 582387.53000 5421117.88500
SE_QUAD_CORNERY_XY: 582490.35000 5414170.35100
SW_QUAD_CORNER_XY: 577907.62500 5414104.44500
SECONDARY_NW_QUAD_XY: 577813.01400 5420833.00700
SECONDARY_NE_QUAD_XY: 582390.17200 5420898.89600
SECONDARY_SE_QUAD_XY: 582492.99200 5413951.36400
SECONDARY_SW_QUAD_XY: 577910.12100 5413885.45600
RMSE_XY: 1.20000
IMAGE_SOURCE: BLACK AND WHITE FILM
SOURCE_IMAGE_ID: NAPP 9128 227
SOURCE_IMAGE_DATE: 1996 07 29
SOURCE_DEM_DATE: 1993 00 00
AGENCY: WESTERN MAPPING CENTER (WMC)
PRODUCER: UNDEFINED
PRODUCTION_SYSTEM: GIS/MAGIC
COMPRESSION: UNDEFINED
STANDARD_VERSION: 1996 12
METADATA_DATE: 2000 11 29
DATA_FILE_SIZE: 40659546
BYTE_COUNT: 5338
