FILENAME: O4811164.SES.1078216.tif
QUADRANGLE_NAME: RUSSELL CHAPEL
QUADRANT: SE
WEST_LONGITUDE: -111 3 45.00000
EAST_LONGITUDE: -111 0 0.00000
NORTH_LATITUDE: 48 3 45.00000
SOUTH_LATITUDE: 48 0 0.00000
PRODUCTION_DATE: 2000 5 8
RASTER_ORDER: LEFT_RIGHT/TOP_BOTTOM
BAND_ORGANIZATION: SINGLE FILE
BAND_CONTENT: BLACK&WHITE
BAND_CONTENT: UNDEFINED
BAND_CONTENT: UNDEFINED
BITS_PER_PIXEL: 8
SAMPLES_AND_LINES: 5324 7555
HORIZONTAL_DATUM: NAD83
HORIZONTAL_COORDINATE_SYSTEM: UTM
COORDINATE_ZONE: 12
HORIZONTAL_UNITS: METERS
HORIZONTAL_RESOLUTION: 1.00000
SECONDARY_HORIZONTAL_DATUM: NAD27
XY_ORIGIN: 494977.00000 5323549.00000
SECONDARY_XY_ORIGIN: 495036.17600 5323333.29100
NATION: US
NATION: "SCIENCE
STATE: MT
NW_QUAD_CORNER_XY: 495343.41500 5323248.76700
NE_QUAD_CORNER_XY: 500000.00000 5323246.87700
SE_QUAD_CORNERY_XY: 500000.00000 5316300.22400
SW_QUAD_CORNER_XY: 495337.78100 5316302.11400
SECONDARY_NW_QUAD_XY: 495343.26800 5323029.87200
SECONDARY_NE_QUAD_XY: 500000.00000 5323027.98200
SECONDARY_SE_QUAD_XY: 500000.00000 5316081.34300
SECONDARY_SW_QUAD_XY: 495337.63400 5316083.23300
RMSE_XY: 1.40000
IMAGE_SOURCE: BLACK AND WHITE FILM
SOURCE_IMAGE_ID: NAPP 9169 071
SOURCE_IMAGE_DATE: 1997 07 25
SOURCE_IMAGE_ID: NAPP 8372 031
SOURCE_IMAGE_DATE: 1995 07 08
SOURCE_IMAGE_ID: NAPP 9168 101
SOURCE_IMAGE_DATE: 1996 08 26
SOURCE_DEM_DATE: 1992 00 00
AGENCY: WESTERN MAPPING CENTER (WMC)
PRODUCER: UNDEFINED
PRODUCTION_SYSTEM: GIS/MAGIC
COMPRESSION: UNDEFINED
STANDARD_VERSION: 1996 12
METADATA_DATE: 2000 06 02
DATA_FILE_SIZE: 40228144
BYTE_COUNT: 5324
