FILENAME: O4811162.NWS.1078164.tif
QUADRANGLE_NAME: KNEES
QUADRANT: NW
WEST_LONGITUDE: -111 22 30.00000
EAST_LONGITUDE: -111 18 45.00000
NORTH_LATITUDE: 48 7 30.00000
SOUTH_LATITUDE: 48 3 45.00000
PRODUCTION_DATE: 2000 5 4
RASTER_ORDER: LEFT_RIGHT/TOP_BOTTOM
BAND_ORGANIZATION: SINGLE FILE
BAND_CONTENT: BLACK&WHITE
BAND_CONTENT: UNDEFINED
BAND_CONTENT: UNDEFINED
BITS_PER_PIXEL: 8
SAMPLES_AND_LINES: 5349 7574
HORIZONTAL_DATUM: NAD83
HORIZONTAL_COORDINATE_SYSTEM: UTM
COORDINATE_ZONE: 12
HORIZONTAL_UNITS: METERS
HORIZONTAL_RESOLUTION: 1.00000
SECONDARY_HORIZONTAL_DATUM: NAD27
XY_ORIGIN: 471698.00000 5330562.00000
SECONDARY_XY_ORIGIN: 471758.02500 5330345.83200
NATION: US
NATION: "SCIENCE
STATE: MT
NW_QUAD_CORNER_XY: 472094.35000 5330261.60500
NE_QUAD_CORNER_XY: 476745.28600 5330240.82800
SE_QUAD_CORNERY_XY: 476717.08800 5323294.10900
SW_QUAD_CORNER_XY: 472060.51100 5323314.89200
SECONDARY_NW_QUAD_XY: 472093.46900 5330042.69900
SECONDARY_NE_QUAD_XY: 476744.55200 5330021.92100
SECONDARY_SE_QUAD_XY: 476716.35400 5323075.21600
SECONDARY_SW_QUAD_XY: 472059.63100 5323095.99900
RMSE_XY: 0.70000
IMAGE_SOURCE: BLACK AND WHITE FILM
SOURCE_IMAGE_ID: NAPP 9175 068
SOURCE_IMAGE_DATE: 1997 08 30
SOURCE_IMAGE_ID: NAPP 9175 129
SOURCE_IMAGE_DATE: 1997 08 30
SOURCE_IMAGE_ID: NAPP 9175 066
SOURCE_IMAGE_DATE: 1997 08 30
SOURCE_DEM_DATE: 1969 00 00
AGENCY: WESTERN MAPPING CENTER (WMC)
PRODUCER: UNDEFINED
PRODUCTION_SYSTEM: GIS/MAGIC
COMPRESSION: UNDEFINED
STANDARD_VERSION: 1996 12
METADATA_DATE: 2000 06 02
DATA_FILE_SIZE: 40518675
BYTE_COUNT: 5349
