FILENAME: O4811161.NWS.1078160.tif
QUADRANGLE_NAME: FARIS SCHOOL
QUADRANT: NW
WEST_LONGITUDE: -111 30 0.00000
EAST_LONGITUDE: -111 26 15.00000
NORTH_LATITUDE: 48 7 30.00000
SOUTH_LATITUDE: 48 3 45.00000
PRODUCTION_DATE: 2000 6 2
RASTER_ORDER: LEFT_RIGHT/TOP_BOTTOM
BAND_ORGANIZATION: SINGLE FILE
BAND_CONTENT: BLACK&WHITE
BAND_CONTENT: UNDEFINED
BAND_CONTENT: UNDEFINED
BITS_PER_PIXEL: 8
SAMPLES_AND_LINES: 5360 7581
HORIZONTAL_DATUM: NAD83
HORIZONTAL_COORDINATE_SYSTEM: UTM
COORDINATE_ZONE: 12
HORIZONTAL_UNITS: METERS
HORIZONTAL_RESOLUTION: 1.00000
SECONDARY_HORIZONTAL_DATUM: NAD27
XY_ORIGIN: 462385.00000 5330615.00000
SECONDARY_XY_ORIGIN: 462445.22900 5330398.77600
NATION: US
NATION: "SCIENCE
STATE: MT
NW_QUAD_CORNER_XY: 462792.48800 5330314.49300
NE_QUAD_CORNER_XY: 467443.41700 5330286.16000
SE_QUAD_CORNERY_XY: 467403.93900 5323339.45200
SW_QUAD_CORNER_XY: 462747.37000 5323367.79200
SECONDARY_NW_QUAD_XY: 462791.31400 5330095.58800
SECONDARY_NE_QUAD_XY: 467442.39000 5330067.25400
SECONDARY_SE_QUAD_XY: 467402.91200 5323120.56000
SECONDARY_SW_QUAD_XY: 462746.19700 5323148.90100
RMSE_XY: 0.90000
IMAGE_SOURCE: BLACK AND WHITE FILM
SOURCE_IMAGE_ID: NAPP 11014 012
SOURCE_IMAGE_DATE: 1998 07 23
SOURCE_IMAGE_ID: NAPP 11014 014
SOURCE_IMAGE_DATE: 1998 07 23
SOURCE_IMAGE_ID: NAPP 11014 011
SOURCE_IMAGE_DATE: 1998 07 23
SOURCE_DEM_DATE: 1969 00 00
AGENCY: WESTERN MAPPING CENTER (WMC)
PRODUCER: UNDEFINED
PRODUCTION_SYSTEM: GIS/MAGIC
COMPRESSION: UNDEFINED
STANDARD_VERSION: 1996 12
METADATA_DATE: 2000 06 02
DATA_FILE_SIZE: 40639520
BYTE_COUNT: 5360
