FILENAME: O4811157.NES.1078127.tif
QUADRANGLE_NAME: CONRAD SW
QUADRANT: NE
WEST_LONGITUDE: -111 56 15.00000
EAST_LONGITUDE: -111 52 30.00000
NORTH_LATITUDE: 48 7 30.00000
SOUTH_LATITUDE: 48 3 45.00000
PRODUCTION_DATE: 2000 5 3
RASTER_ORDER: LEFT_RIGHT/TOP_BOTTOM
BAND_ORGANIZATION: SINGLE FILE
BAND_CONTENT: BLACK&WHITE
BAND_CONTENT: UNDEFINED
BAND_CONTENT: UNDEFINED
BITS_PER_PIXEL: 8
SAMPLES_AND_LINES: 5402 7607
HORIZONTAL_DATUM: NAD83
HORIZONTAL_COORDINATE_SYSTEM: UTM
COORDINATE_ZONE: 12
HORIZONTAL_UNITS: METERS
HORIZONTAL_RESOLUTION: 1.00000
SECONDARY_HORIZONTAL_DATUM: NAD27
XY_ORIGIN: 429787.00000 5330919.00000
SECONDARY_XY_ORIGIN: 429848.12400 5330702.69800
NATION: US
NATION: "SCIENCE
STATE: MT
NW_QUAD_CORNER_XY: 430236.15500 5330618.61000
NE_QUAD_CORNER_XY: 434887.03800 5330563.83000
SE_QUAD_CORNERY_XY: 434808.07800 5323617.18700
SW_QUAD_CORNER_XY: 430151.55500 5323671.98000
SECONDARY_NW_QUAD_XY: 430233.95400 5330399.71500
SECONDARY_NE_QUAD_XY: 434884.98400 5330344.93300
SECONDARY_SE_QUAD_XY: 434806.02400 5323398.30300
SECONDARY_SW_QUAD_XY: 430149.35400 5323453.09800
RMSE_XY: 1.00000
IMAGE_SOURCE: BLACK AND WHITE FILM
SOURCE_IMAGE_ID: NAPP 9178 099
SOURCE_IMAGE_DATE: 1997 09 04
SOURCE_DEM_DATE: 1965 00 00
AGENCY: WESTERN MAPPING CENTER (WMC)
PRODUCER: UNDEFINED
PRODUCTION_SYSTEM: GIS/MAGIC
COMPRESSION: UNDEFINED
STANDARD_VERSION: 1996 12
METADATA_DATE: 2000 06 02
DATA_FILE_SIZE: 41098416
BYTE_COUNT: 5402
