FILENAME: O4811157.SWS.1078130.tif
QUADRANGLE_NAME: CONRAD SW
QUADRANT: SW
WEST_LONGITUDE: -112 0 0.00000
EAST_LONGITUDE: -111 56 15.00000
NORTH_LATITUDE: 48 3 45.00000
SOUTH_LATITUDE: 48 0 0.00000
PRODUCTION_DATE: 2000 5 3
RASTER_ORDER: LEFT_RIGHT/TOP_BOTTOM
BAND_ORGANIZATION: SINGLE FILE
BAND_CONTENT: BLACK&WHITE
BAND_CONTENT: UNDEFINED
BAND_CONTENT: UNDEFINED
BITS_PER_PIXEL: 8
SAMPLES_AND_LINES: 5413 7612
HORIZONTAL_DATUM: NAD83
HORIZONTAL_COORDINATE_SYSTEM: UTM
COORDINATE_ZONE: 12
HORIZONTAL_UNITS: METERS
HORIZONTAL_RESOLUTION: 1.00000
SECONDARY_HORIZONTAL_DATUM: NAD27
XY_ORIGIN: 425040.00000 5324031.00000
SECONDARY_XY_ORIGIN: 425101.15700 5323815.15600
NATION: US
NATION: "SCIENCE
STATE: MT
NW_QUAD_CORNER_XY: 425495.04000 5323730.55200
NE_QUAD_CORNER_XY: 430151.55500 5323671.98000
SE_QUAD_CORNERY_XY: 430067.03800 5316725.42300
SW_QUAD_CORNER_XY: 425404.88800 5316784.00900
SECONDARY_NW_QUAD_XY: 425492.69200 5323511.67200
SECONDARY_NE_QUAD_XY: 430149.35400 5323453.09800
SECONDARY_SE_QUAD_XY: 430064.83700 5316506.55600
SECONDARY_SW_QUAD_XY: 425402.54000 5316565.14300
RMSE_XY: 0.80000
IMAGE_SOURCE: BLACK AND WHITE FILM
SOURCE_IMAGE_ID: NAPP 9178 104
SOURCE_IMAGE_DATE: 1997 09 04
SOURCE_IMAGE_ID: NAPP 8373 271
SOURCE_IMAGE_DATE: 1995 08 09
SOURCE_DEM_DATE: 1965 00 00
AGENCY: WESTERN MAPPING CENTER (WMC)
PRODUCER: UNDEFINED
PRODUCTION_SYSTEM: GIS/MAGIC
COMPRESSION: UNDEFINED
STANDARD_VERSION: 1996 12
METADATA_DATE: 2000 06 02
DATA_FILE_SIZE: 41209169
BYTE_COUNT: 5413
