FILENAME: O4811156.NWS.1080784.tif
QUADRANGLE_NAME: UPHILL CREEK
QUADRANT: NW
WEST_LONGITUDE: -111 7 30.00000
EAST_LONGITUDE: -111 3 45.00000
NORTH_LATITUDE: 48 15 0.00000
SOUTH_LATITUDE: 48 11 15.00000
PRODUCTION_DATE: 2000 5 24
RASTER_ORDER: LEFT_RIGHT/TOP_BOTTOM
BAND_ORGANIZATION: SINGLE FILE
BAND_CONTENT: BLACK&WHITE
BAND_CONTENT: UNDEFINED
BAND_CONTENT: UNDEFINED
BITS_PER_PIXEL: 8
SAMPLES_AND_LINES: 5314 7558
HORIZONTAL_DATUM: NAD83
HORIZONTAL_COORDINATE_SYSTEM: UTM
COORDINATE_ZONE: 12
HORIZONTAL_UNITS: METERS
HORIZONTAL_RESOLUTION: 1.00000
SECONDARY_HORIZONTAL_DATUM: NAD27
XY_ORIGIN: 490348.00000 5344395.00000
SECONDARY_XY_ORIGIN: 490407.69300 5344178.15300
NATION: US
NATION: "SCIENCE
STATE: MT
NW_QUAD_CORNER_XY: 490720.70200 5344094.84500
NE_QUAD_CORNER_XY: 495360.35100 5344089.18100
SE_QUAD_CORNERY_XY: 495354.70000 5337142.30000
SW_QUAD_CORNER_XY: 490709.40100 5337147.96500
SECONDARY_NW_QUAD_XY: 490720.40900 5343875.91200
SECONDARY_NE_QUAD_XY: 495360.20400 5343870.24800
SECONDARY_SE_QUAD_XY: 495354.55300 5336923.37900
SECONDARY_SW_QUAD_XY: 490709.10700 5336929.04400
RMSE_XY: 0.90000
IMAGE_SOURCE: BLACK AND WHITE FILM
SOURCE_IMAGE_ID: NAPP 9169 130
SOURCE_IMAGE_DATE: 1997 07 25
SOURCE_IMAGE_ID: NAPP 9169 132
SOURCE_IMAGE_DATE: 1997 07 25
SOURCE_DEM_DATE: 1969 00 00
AGENCY: WESTERN MAPPING CENTER (WMC)
PRODUCER: UNDEFINED
PRODUCTION_SYSTEM: GIS/MAGIC
COMPRESSION: UNDEFINED
STANDARD_VERSION: 1996 12
METADATA_DATE: 2000 06 13
DATA_FILE_SIZE: 40168526
BYTE_COUNT: 5314
