FILENAME: O4811153.NES.958523.tif
QUADRANGLE_NAME: SOLLID SCHOOL
QUADRANT: NE
WEST_LONGITUDE: -111 26 15.00000
EAST_LONGITUDE: -111 22 30.00000
NORTH_LATITUDE: 48 15 0.00000
SOUTH_LATITUDE: 48 11 15.00000
PRODUCTION_DATE: 1999 1 29
RASTER_ORDER: LEFT_RIGHT/TOP_BOTTOM
BAND_ORGANIZATION: SINGLE FILE
BAND_CONTENT: BLACK&WHITE
BAND_CONTENT: UNDEFINED
BAND_CONTENT: UNDEFINED
BITS_PER_PIXEL: 8
SAMPLES_AND_LINES: 5340 7577
HORIZONTAL_DATUM: NAD83
HORIZONTAL_COORDINATE_SYSTEM: UTM
COORDINATE_ZONE: 12
HORIZONTAL_UNITS: METERS
HORIZONTAL_RESOLUTION: 1.00000
SECONDARY_HORIZONTAL_DATUM: NAD27
XY_ORIGIN: 467121.00000 5344481.00000
SECONDARY_XY_ORIGIN: 467181.33400 5344264.00000
NATION: US
STATE: MT
NW_QUAD_CORNER_XY: 467522.49000 5344179.80300
NE_QUAD_CORNER_XY: 472162.12600 5344155.25900
SE_QUAD_CORNERY_XY: 472128.22100 5337208.39500
SW_QUAD_CORNER_XY: 467482.93400 5337232.94400
SECONDARY_NW_QUAD_XY: 467521.46300 5343960.87200
SECONDARY_NE_QUAD_XY: 472161.24600 5343936.32800
SECONDARY_SE_QUAD_XY: 472127.34100 5336989.47600
SECONDARY_SW_QUAD_XY: 467481.90700 5337014.02600
RMSE_XY: 1.30000
IMAGE_SOURCE: BLACK AND WHITE FILM
SOURCE_IMAGE_ID: NAPP 9175 125
SOURCE_IMAGE_DATE: 1997 8 30
SOURCE_DEM_DATE: 1969 0 0
AGENCY: WESTERN MAPPING CENTER (WMC)
PRODUCER: ROCKY MOUNTAIN MAPPING CENTER (RMMC)
PRODUCTION_SYSTEM: DV2.6.3 10/9OV2.4 5/95
COMPRESSION: UNDEFINED
STANDARD_VERSION: 1996 12
METADATA_DATE: 1999 2 1
DATA_FILE_SIZE: 40466520
BYTE_COUNT: 5340
