FILENAME: O4811153.NWS.958524.tif
QUADRANGLE_NAME: SOLLID SCHOOL
QUADRANT: NW
WEST_LONGITUDE: -111 30 0.00000
EAST_LONGITUDE: -111 26 15.00000
NORTH_LATITUDE: 48 15 0.00000
SOUTH_LATITUDE: 48 11 15.00000
PRODUCTION_DATE: 1999 1 29
RASTER_ORDER: LEFT_RIGHT/TOP_BOTTOM
BAND_ORGANIZATION: SINGLE FILE
BAND_CONTENT: BLACK&WHITE
BAND_CONTENT: UNDEFINED
BAND_CONTENT: UNDEFINED
BITS_PER_PIXEL: 8
SAMPLES_AND_LINES: 5348 7580
HORIZONTAL_DATUM: NAD83
HORIZONTAL_COORDINATE_SYSTEM: UTM
COORDINATE_ZONE: 12
HORIZONTAL_UNITS: METERS
HORIZONTAL_RESOLUTION: 1.00000
SECONDARY_HORIZONTAL_DATUM: NAD27
XY_ORIGIN: 462475.00000 5344509.00000
SECONDARY_XY_ORIGIN: 462535.45200 5344291.98800
NATION: US
STATE: MT
NW_QUAD_CORNER_XY: 462882.85800 5344208.12200
NE_QUAD_CORNER_XY: 467522.49000 5344179.80300
SE_QUAD_CORNERY_XY: 467482.93400 5337232.94400
SW_QUAD_CORNER_XY: 462837.65100 5337261.27000
SECONDARY_NW_QUAD_XY: 462881.68400 5343989.19300
SECONDARY_NE_QUAD_XY: 467521.46300 5343960.87200
SECONDARY_SE_QUAD_XY: 467481.90700 5337014.02600
SECONDARY_SW_QUAD_XY: 462836.47700 5337042.35300
RMSE_XY: 1.40000
IMAGE_SOURCE: BLACK AND WHITE FILM
SOURCE_IMAGE_ID: NAPP 3887 180
SOURCE_IMAGE_DATE: 1991 7 12
SOURCE_DEM_DATE: 1969 0 0
AGENCY: WESTERN MAPPING CENTER (WMC)
PRODUCER: ROCKY MOUNTAIN MAPPING CENTER (RMMC)
PRODUCTION_SYSTEM: DV2.6.3 10/9OV2.4 5/95
COMPRESSION: UNDEFINED
STANDARD_VERSION: 1996 12
METADATA_DATE: 1999 2 1
DATA_FILE_SIZE: 40543188
BYTE_COUNT: 5348
