FILENAME: O4811152.NWS.958520.tif
QUADRANGLE_NAME: FOWLER COULEE NE
QUADRANT: NW
WEST_LONGITUDE: -111 37 30.00000
EAST_LONGITUDE: -111 33 45.00000
NORTH_LATITUDE: 48 15 0.00000
SOUTH_LATITUDE: 48 11 15.00000
PRODUCTION_DATE: 1999 1 28
RASTER_ORDER: LEFT_RIGHT/TOP_BOTTOM
BAND_ORGANIZATION: SINGLE FILE
BAND_CONTENT: BLACK&WHITE
BAND_CONTENT: UNDEFINED
BAND_CONTENT: UNDEFINED
BITS_PER_PIXEL: 8
SAMPLES_AND_LINES: 5360 7588
HORIZONTAL_DATUM: NAD83
HORIZONTAL_COORDINATE_SYSTEM: UTM
COORDINATE_ZONE: 12
HORIZONTAL_UNITS: METERS
HORIZONTAL_RESOLUTION: 1.00000
SECONDARY_HORIZONTAL_DATUM: NAD27
XY_ORIGIN: 453184.00000 5344577.00000
SECONDARY_XY_ORIGIN: 453244.70300 5344359.95700
NATION: US
STATE: MT
NW_QUAD_CORNER_XY: 453603.61000 5344276.08900
NE_QUAD_CORNER_XY: 458243.23100 5344240.21800
SE_QUAD_CORNERY_XY: 458192.37300 5337293.37400
SW_QUAD_CORNER_XY: 453547.10000 5337329.25400
SECONDARY_NW_QUAD_XY: 453602.14200 5344057.16200
SECONDARY_NE_QUAD_XY: 458241.91000 5344021.28900
SECONDARY_SE_QUAD_XY: 458191.05200 5337074.45700
SECONDARY_SW_QUAD_XY: 453545.63200 5337110.33900
RMSE_XY: 1.40000
IMAGE_SOURCE: BLACK AND WHITE FILM
SOURCE_IMAGE_ID: NAPP 9176 084
SOURCE_IMAGE_DATE: 1997 8 30
SOURCE_DEM_DATE: 1965 0 0
AGENCY: WESTERN MAPPING CENTER (WMC)
PRODUCER: ROCKY MOUNTAIN MAPPING CENTER (RMMC)
PRODUCTION_SYSTEM: DV2.6.3 10/9OV2.4 5/95
COMPRESSION: UNDEFINED
STANDARD_VERSION: 1996 12
METADATA_DATE: 1999 2 1
DATA_FILE_SIZE: 40677040
BYTE_COUNT: 5360
