FILENAME: O4811142.NES.958467.tif
QUADRANGLE_NAME: LEDGER
QUADRANT: NE
WEST_LONGITUDE: -111 48 45.00000
EAST_LONGITUDE: -111 45 0.00000
NORTH_LATITUDE: 48 22 30.00000
SOUTH_LATITUDE: 48 18 45.00000
PRODUCTION_DATE: 1999 2 3
RASTER_ORDER: LEFT_RIGHT/TOP_BOTTOM
BAND_ORGANIZATION: SINGLE FILE
BAND_CONTENT: BLACK&WHITE
BAND_CONTENT: UNDEFINED
BAND_CONTENT: UNDEFINED
BITS_PER_PIXEL: 8
SAMPLES_AND_LINES: 5368 7599
HORIZONTAL_DATUM: NAD83
HORIZONTAL_COORDINATE_SYSTEM: UTM
COORDINATE_ZONE: 12
HORIZONTAL_UNITS: METERS
HORIZONTAL_RESOLUTION: 1.00000
SECONDARY_HORIZONTAL_DATUM: NAD27
XY_ORIGIN: 439394.00000 5358601.00000
SECONDARY_XY_ORIGIN: 439455.10700 5358383.40900
NATION: US
STATE: MT
NW_QUAD_CORNER_XY: 439831.93000 5358300.19200
NE_QUAD_CORNER_XY: 444460.21100 5358253.01600
SE_QUAD_CORNERY_XY: 444392.26500 5351306.05100
SW_QUAD_CORNER_XY: 439758.32100 5351353.24000
SECONDARY_NW_QUAD_XY: 439830.02200 5358081.24800
SECONDARY_NE_QUAD_XY: 444458.45000 5358034.07000
SECONDARY_SE_QUAD_XY: 444390.50400 5351087.11600
SECONDARY_SW_QUAD_XY: 439756.41300 5351134.30600
RMSE_XY: 2.00000
IMAGE_SOURCE: BLACK AND WHITE FILM
SOURCE_IMAGE_ID: NAPP 9178 023
SOURCE_IMAGE_DATE: 1997 9 4
SOURCE_DEM_DATE: 1965 0 0
AGENCY: WESTERN MAPPING CENTER (WMC)
PRODUCER: ROCKY MOUNTAIN MAPPING CENTER (RMMC)
PRODUCTION_SYSTEM: DV2.6.3 10/9OV2.4 5/95
COMPRESSION: UNDEFINED
STANDARD_VERSION: 1996 12
METADATA_DATE: 1999 2 4
DATA_FILE_SIZE: 40796800
BYTE_COUNT: 5368
