FILENAME: O4811142.SES.958470.tif
QUADRANGLE_NAME: LEDGER
QUADRANT: SE
WEST_LONGITUDE: -111 48 45.00000
EAST_LONGITUDE: -111 45 0.00000
NORTH_LATITUDE: 48 18 45.00000
SOUTH_LATITUDE: 48 15 0.00000
PRODUCTION_DATE: 1999 2 3
RASTER_ORDER: LEFT_RIGHT/TOP_BOTTOM
BAND_ORGANIZATION: SINGLE FILE
BAND_CONTENT: BLACK&WHITE
BAND_CONTENT: UNDEFINED
BAND_CONTENT: UNDEFINED
BITS_PER_PIXEL: 8
SAMPLES_AND_LINES: 5372 7599
HORIZONTAL_DATUM: NAD83
HORIZONTAL_COORDINATE_SYSTEM: UTM
COORDINATE_ZONE: 12
HORIZONTAL_UNITS: METERS
HORIZONTAL_RESOLUTION: 1.00000
SECONDARY_HORIZONTAL_DATUM: NAD27
XY_ORIGIN: 439321.00000 5351654.00000
SECONDARY_XY_ORIGIN: 439382.08700 5351436.63100
NATION: US
STATE: MT
NW_QUAD_CORNER_XY: 439758.32100 5351353.24000
NE_QUAD_CORNER_XY: 444392.26500 5351306.05100
SE_QUAD_CORNERY_XY: 444324.38600 5344359.16100
SW_QUAD_CORNER_XY: 439684.78500 5344406.36200
SECONDARY_NW_QUAD_XY: 439756.41300 5351134.30600
SECONDARY_NE_QUAD_XY: 444390.50400 5351087.11600
SECONDARY_SE_QUAD_XY: 444322.62500 5344140.23700
SECONDARY_SW_QUAD_XY: 439682.87700 5344187.43900
RMSE_XY: 1.40000
IMAGE_SOURCE: BLACK AND WHITE FILM
SOURCE_IMAGE_ID: NAPP 9178 025
SOURCE_IMAGE_DATE: 1997 9 4
SOURCE_DEM_DATE: 1965 0 0
AGENCY: WESTERN MAPPING CENTER (WMC)
PRODUCER: ROCKY MOUNTAIN MAPPING CENTER (RMMC)
PRODUCTION_SYSTEM: DV2.6.3 10/9OV2.4 5/95
COMPRESSION: UNDEFINED
STANDARD_VERSION: 1996 12
METADATA_DATE: 1999 2 4
DATA_FILE_SIZE: 40827200
BYTE_COUNT: 5372
