FILENAME: O4811141.SWS.958534.tif
QUADRANGLE_NAME: PIONEER SCHOOL
QUADRANT: SW
WEST_LONGITUDE: -112 0 0.00000
EAST_LONGITUDE: -111 56 15.00000
NORTH_LATITUDE: 48 18 45.00000
SOUTH_LATITUDE: 48 15 0.00000
PRODUCTION_DATE: 1999 2 8
RASTER_ORDER: LEFT_RIGHT/TOP_BOTTOM
BAND_ORGANIZATION: SINGLE FILE
BAND_CONTENT: BLACK&WHITE
BAND_CONTENT: UNDEFINED
BAND_CONTENT: UNDEFINED
BITS_PER_PIXEL: 8
SAMPLES_AND_LINES: 5388 7610
HORIZONTAL_DATUM: NAD83
HORIZONTAL_COORDINATE_SYSTEM: UTM
COORDINATE_ZONE: 12
HORIZONTAL_UNITS: METERS
HORIZONTAL_RESOLUTION: 1.00000
SECONDARY_HORIZONTAL_DATUM: NAD27
XY_ORIGIN: 425401.00000 5351818.00000
SECONDARY_XY_ORIGIN: 425462.40000 5351600.50300
NATION: US
STATE: MT
NW_QUAD_CORNER_XY: 425856.54200 5351517.46000
NE_QUAD_CORNER_XY: 430490.45900 5351458.94500
SE_QUAD_CORNERY_XY: 430405.60800 5344512.09300
SW_QUAD_CORNER_XY: 425766.03200 5344570.62300
SECONDARY_NW_QUAD_XY: 425854.19300 5351298.53100
SECONDARY_NE_QUAD_XY: 430488.25800 5351240.01400
SECONDARY_SE_QUAD_XY: 430403.40600 5344293.17300
SECONDARY_SW_QUAD_XY: 425763.68400 5344351.70500
RMSE_XY: 1.70000
IMAGE_SOURCE: BLACK AND WHITE FILM
SOURCE_IMAGE_ID: NAPP 9178 112
SOURCE_IMAGE_DATE: 1997 9 4
SOURCE_DEM_DATE: 1965 0 0
AGENCY: WESTERN MAPPING CENTER (WMC)
PRODUCER: ROCKY MOUNTAIN MAPPING CENTER (RMMC)
PRODUCTION_SYSTEM: DV2.6.3 10/9OV2.4 5/95
COMPRESSION: UNDEFINED
STANDARD_VERSION: 1996 12
METADATA_DATE: 1999 2 9
DATA_FILE_SIZE: 41008068
BYTE_COUNT: 5388
