FILENAME: O4811139.NES.961699.tif
QUADRANGLE_NAME: LOTHAIR
QUADRANT: NE
WEST_LONGITUDE: -111 11 15.00000
EAST_LONGITUDE: -111 7 30.00000
NORTH_LATITUDE: 48 30 0.00000
SOUTH_LATITUDE: 48 26 15.00000
PRODUCTION_DATE: 1999 2 26
RASTER_ORDER: LEFT_RIGHT/TOP_BOTTOM
BAND_ORGANIZATION: SINGLE FILE
BAND_CONTENT: BLACK&WHITE
BAND_CONTENT: UNDEFINED
BAND_CONTENT: UNDEFINED
BITS_PER_PIXEL: 8
SAMPLES_AND_LINES: 5296 7562
HORIZONTAL_DATUM: NAD83
HORIZONTAL_COORDINATE_SYSTEM: UTM
COORDINATE_ZONE: 12
HORIZONTAL_UNITS: METERS
HORIZONTAL_RESOLUTION: 1.00000
SECONDARY_HORIZONTAL_DATUM: NAD27
XY_ORIGIN: 485771.00000 5372194.00000
SECONDARY_XY_ORIGIN: 485830.00000 5371977.00000
NATION: US
STATE: MT
NW_QUAD_CORNER_XY: 486149.03100 5371892.55100
NE_QUAD_CORNER_XY: 490766.02000 5371883.12100
SE_QUAD_CORNERY_XY: 490754.67400 5364935.93800
SW_QUAD_CORNER_XY: 486132.01200 5364945.37100
SECONDARY_NW_QUAD_XY: 486148.59100 5371673.57900
SECONDARY_NE_QUAD_XY: 490765.72600 5371664.14900
SECONDARY_SE_QUAD_XY: 490754.38000 5364716.97500
SECONDARY_SW_QUAD_XY: 486131.57200 5364726.40800
RMSE_XY: 1.80000
IMAGE_SOURCE: BLACK AND WHITE FILM
SOURCE_IMAGE_ID: NAPP 9170 063
SOURCE_IMAGE_DATE: 1997 8 22
SOURCE_DEM_DATE: 1969 0 0
AGENCY: WESTERN MAPPING CENTER (WMC)
PRODUCER: ROCKY MOUNTAIN MAPPING CENTER (RMMC)
PRODUCTION_SYSTEM: DV2.6.3 10/9OV2.4 5/95
COMPRESSION: UNDEFINED
STANDARD_VERSION: 1996 12
METADATA_DATE: 1999 2 26
DATA_FILE_SIZE: 40053648
BYTE_COUNT: 5296
