FILENAME: O4811137.SWS.45352.tif
QUADRANGLE_NAME: DEVON
QUADRANT: SW
WEST_LONGITUDE: -111 30 0.00000
EAST_LONGITUDE: -111 26 15.00000
NORTH_LATITUDE: 48 26 15.00000
SOUTH_LATITUDE: 48 22 30.00000
PRODUCTION_DATE: 1995 6 29
RASTER_ORDER: LEFT_RIGHT/TOP_BOTTOM
BAND_ORGANIZATION: SINGLE FILE
BAND_CONTENT: BLACK&WHITE
BAND_CONTENT: UNDEFINED
BAND_CONTENT: UNDEFINED
BITS_PER_PIXEL: 8
SAMPLES_AND_LINES: 5278 7586
HORIZONTAL_DATUM: NAD83
HORIZONTAL_COORDINATE_SYSTEM: UTM
COORDINATE_ZONE: 12
HORIZONTAL_UNITS: METERS
HORIZONTAL_RESOLUTION: 1.00000
SECONDARY_HORIZONTAL_DATUM: NAD27
XY_ORIGIN: 462668.50000 5365353.50000
SECONDARY_XY_ORIGIN: 462728.97200 5365135.83800
NATION: US
STATE: MT
NW_QUAD_CORNER_XY: 463018.74600 5365049.12900
NE_QUAD_CORNER_XY: 467641.39200 5365020.83100
SE_QUAD_CORNERY_XY: 467601.71900 5358073.74600
SW_QUAD_CORNER_XY: 462973.40600 5358102.05100
SECONDARY_NW_QUAD_XY: 463017.57200 5364830.16900
SECONDARY_NE_QUAD_XY: 467640.36400 5364801.87000
SECONDARY_SE_QUAD_XY: 467600.69200 5357854.79500
SECONDARY_SW_QUAD_XY: 462972.23200 5357883.10100
RMSE_XY: 1.40000
IMAGE_SOURCE: BLACK AND WHITE FILM
SOURCE_IMAGE_ID: NAPP 3887 186
SOURCE_IMAGE_DATE: 1991 7 12
SOURCE_DEM_DATE: 1995 6 29
AGENCY: WESTERN MAPPING CENTER (WMC)
PRODUCER: Woolpert Consultants
PRODUCTION_SYSTEM: INTERGRAPH ISPM,ISIR
COMPRESSION: UNDEFINED
STANDARD_VERSION: 1996 12
METADATA_DATE: 1997 6 15
DATA_FILE_SIZE: 40044186
BYTE_COUNT: 5278
