FILENAME: O4811132.SWS.1115462.tif
QUADRANGLE_NAME: TIBER
QUADRANT: SW
WEST_LONGITUDE: -111 7 30.00000
EAST_LONGITUDE: -111 3 45.00000
NORTH_LATITUDE: 48 33 45.00000
SOUTH_LATITUDE: 48 30 0.00000
PRODUCTION_DATE: 2000 10 18
RASTER_ORDER: LEFT_RIGHT/TOP_BOTTOM
BAND_ORGANIZATION: SINGLE FILE
BAND_CONTENT: BLACK&WHITE
BAND_CONTENT: UNDEFINED
BAND_CONTENT: UNDEFINED
BITS_PER_PIXEL: 8
SAMPLES_AND_LINES: 5286 7557
HORIZONTAL_DATUM: NAD83
HORIZONTAL_COORDINATE_SYSTEM: UTM
COORDINATE_ZONE: 12
HORIZONTAL_UNITS: METERS
HORIZONTAL_RESOLUTION: 1.00000
SECONDARY_HORIZONTAL_DATUM: NAD27
XY_ORIGIN: 490404.00000 5379131.00000
SECONDARY_XY_ORIGIN: 490463.72300 5378913.09200
NATION: US
NATION: "SCIENCE
STATE: MT
NW_QUAD_CORNER_XY: 490777.37700 5378830.37900
NE_QUAD_CORNER_XY: 495388.68800 5378824.72200
SE_QUAD_CORNERY_XY: 495383.00900 5371877.46200
SW_QUAD_CORNER_XY: 490766.02000 5371883.12000
SECONDARY_NW_QUAD_XY: 490777.08300 5378611.39900
SECONDARY_NE_QUAD_XY: 495388.54100 5378605.74200
SECONDARY_SE_QUAD_XY: 495382.86300 5371658.49000
SECONDARY_SW_QUAD_XY: 490765.72600 5371664.14800
RMSE_XY: 2.50000
IMAGE_SOURCE: BLACK AND WHITE FILM
SOURCE_IMAGE_ID: NAPP 9175 017
SOURCE_IMAGE_DATE: 1997 08 30
SOURCE_DEM_DATE: 1961 00 00
AGENCY: WESTERN MAPPING CENTER (WMC)
PRODUCER: UNDEFINED
PRODUCTION_SYSTEM: GIS/MAGIC
COMPRESSION: UNDEFINED
STANDARD_VERSION: 1996 12
METADATA_DATE: 2000 11 29
DATA_FILE_SIZE: 39951588
BYTE_COUNT: 5286
