FILENAME: O4811131.NWS.1115452.tif
QUADRANGLE_NAME: NORTH LOTHAIR SCHOOL
QUADRANT: NW
WEST_LONGITUDE: -111 15 0.00000
EAST_LONGITUDE: -111 11 15.00000
NORTH_LATITUDE: 48 37 30.00000
SOUTH_LATITUDE: 48 33 45.00000
PRODUCTION_DATE: 2000 10 18
RASTER_ORDER: LEFT_RIGHT/TOP_BOTTOM
BAND_ORGANIZATION: SINGLE FILE
BAND_CONTENT: BLACK&WHITE
BAND_CONTENT: UNDEFINED
BAND_CONTENT: UNDEFINED
BITS_PER_PIXEL: 8
SAMPLES_AND_LINES: 5292 7565
HORIZONTAL_DATUM: NAD83
HORIZONTAL_COORDINATE_SYSTEM: UTM
COORDINATE_ZONE: 12
HORIZONTAL_UNITS: METERS
HORIZONTAL_RESOLUTION: 1.00000
SECONDARY_HORIZONTAL_DATUM: NAD27
XY_ORIGIN: 481193.00000 5386101.00000
SECONDARY_XY_ORIGIN: 481252.83400 5385882.83100
NATION: US
NATION: "SCIENCE
STATE: MT
NW_QUAD_CORNER_XY: 481577.49500 5385800.33300
NE_QUAD_CORNER_XY: 486183.11900 5385787.13800
SE_QUAD_CORNERY_XY: 486166.06700 5378839.80600
SW_QUAD_CORNER_XY: 481554.75900 5378853.00500
SECONDARY_NW_QUAD_XY: 481576.90800 5385581.34700
SECONDARY_NE_QUAD_XY: 486182.67900 5385568.15100
SECONDARY_SE_QUAD_XY: 486165.62600 5378620.82700
SECONDARY_SW_QUAD_XY: 481554.17200 5378634.02600
RMSE_XY: 1.60000
IMAGE_SOURCE: BLACK AND WHITE FILM
SOURCE_IMAGE_ID: NAPP 9170 030
SOURCE_IMAGE_DATE: 1997 08 22
SOURCE_DEM_DATE: 1977 09 00
AGENCY: WESTERN MAPPING CENTER (WMC)
PRODUCER: UNDEFINED
PRODUCTION_SYSTEM: GIS/MAGIC
COMPRESSION: UNDEFINED
STANDARD_VERSION: 1996 12
METADATA_DATE: 2000 11 07
DATA_FILE_SIZE: 40039272
BYTE_COUNT: 5292
