FILENAME: O4811129.NES.45345.tif
QUADRANGLE_NAME: MCCARTERS LAKE
QUADRANT: NE
WEST_LONGITUDE: -111 26 15.00000
EAST_LONGITUDE: -111 22 30.00000
NORTH_LATITUDE: 48 37 30.00000
SOUTH_LATITUDE: 48 33 45.00000
PRODUCTION_DATE: 1995 6 29
RASTER_ORDER: LEFT_RIGHT/TOP_BOTTOM
BAND_ORGANIZATION: SINGLE FILE
BAND_CONTENT: BLACK&WHITE
BAND_CONTENT: UNDEFINED
BAND_CONTENT: UNDEFINED
BITS_PER_PIXEL: 8
SAMPLES_AND_LINES: 5256 7582
HORIZONTAL_DATUM: NAD83
HORIZONTAL_COORDINATE_SYSTEM: UTM
COORDINATE_ZONE: 12
HORIZONTAL_UNITS: METERS
HORIZONTAL_RESOLUTION: 1.00000
SECONDARY_HORIZONTAL_DATUM: NAD27
XY_ORIGIN: 467416.50000 5386167.50000
SECONDARY_XY_ORIGIN: 467476.67000 5385948.98300
NATION: US
STATE: MT
NW_QUAD_CORNER_XY: 467760.64300 5385862.53800
NE_QUAD_CORNER_XY: 472366.25600 5385838.03300
SE_QUAD_CORNERY_XY: 472332.15200 5378890.71600
SW_QUAD_CORNER_XY: 467720.85400 5378915.22700
SECONDARY_NW_QUAD_XY: 467759.61500 5385643.55400
SECONDARY_NE_QUAD_XY: 472365.37600 5385619.04800
SECONDARY_SE_QUAD_XY: 472331.27100 5378671.73800
SECONDARY_SW_QUAD_XY: 467719.82600 5378696.25000
RMSE_XY: 1.60000
IMAGE_SOURCE: BLACK AND WHITE FILM
SOURCE_IMAGE_ID: NAPP 3887 153
SOURCE_IMAGE_DATE: 1991 7 12
SOURCE_DEM_DATE: 1995 6 29
AGENCY: WESTERN MAPPING CENTER (WMC)
PRODUCER: Woolpert Consultants
PRODUCTION_SYSTEM: INTERGRAPH ISPM,ISIR
COMPRESSION: UNDEFINED
STANDARD_VERSION: 1996 12
METADATA_DATE: 1997 6 15
DATA_FILE_SIZE: 39856248
BYTE_COUNT: 5256
