FILENAME: O4811128.NWS.45477.tif
QUADRANGLE_NAME: ANTELOPE COULEE SE
QUADRANT: NW
WEST_LONGITUDE: -111 37 30.00000
EAST_LONGITUDE: -111 33 45.00000
NORTH_LATITUDE: 48 37 30.00000
SOUTH_LATITUDE: 48 33 45.00000
PRODUCTION_DATE: 1995 6 29
RASTER_ORDER: LEFT_RIGHT/TOP_BOTTOM
BAND_ORGANIZATION: SINGLE FILE
BAND_CONTENT: BLACK&WHITE
BAND_CONTENT: UNDEFINED
BAND_CONTENT: UNDEFINED
BITS_PER_PIXEL: 8
SAMPLES_AND_LINES: 5272 7594
HORIZONTAL_DATUM: NAD83
HORIZONTAL_COORDINATE_SYSTEM: UTM
COORDINATE_ZONE: 12
HORIZONTAL_UNITS: METERS
HORIZONTAL_RESOLUTION: 1.00000
SECONDARY_HORIZONTAL_DATUM: NAD27
XY_ORIGIN: 453582.50000 5386263.50000
SECONDARY_XY_ORIGIN: 453643.33200 5386044.74400
NATION: US
STATE: MT
NW_QUAD_CORNER_XY: 453943.83400 5385958.67500
NE_QUAD_CORNER_XY: 458549.43100 5385922.85900
SE_QUAD_CORNERY_XY: 458498.27300 5378975.56500
SW_QUAD_CORNER_XY: 453886.99100 5379011.39000
SECONDARY_NW_QUAD_XY: 453942.36600 5385739.69400
SECONDARY_NE_QUAD_XY: 458548.11000 5385703.87700
SECONDARY_SE_QUAD_XY: 458496.95200 5378756.58900
SECONDARY_SW_QUAD_XY: 453885.52300 5378792.41600
RMSE_XY: 1.30000
IMAGE_SOURCE: BLACK AND WHITE FILM
SOURCE_IMAGE_ID: NAPP 3889 077
SOURCE_IMAGE_DATE: 1991 7 12
SOURCE_DEM_DATE: 1995 6 29
AGENCY: WESTERN MAPPING CENTER (WMC)
PRODUCER: Woolpert Consultants
PRODUCTION_SYSTEM: INTERGRAPH ISPM,ISIR
COMPRESSION: UNDEFINED
STANDARD_VERSION: 1996 12
METADATA_DATE: 1997 6 15
DATA_FILE_SIZE: 40040840
BYTE_COUNT: 5272
