FILENAME: O4811123.SWS.1115450.tif
QUADRANGLE_NAME: BLAIR RANCH
QUADRANT: SW
WEST_LONGITUDE: -111 15 0.00000
EAST_LONGITUDE: -111 11 15.00000
NORTH_LATITUDE: 48 41 15.00000
SOUTH_LATITUDE: 48 37 30.00000
PRODUCTION_DATE: 2000 10 18
RASTER_ORDER: LEFT_RIGHT/TOP_BOTTOM
BAND_ORGANIZATION: SINGLE FILE
BAND_CONTENT: BLACK&WHITE
BAND_CONTENT: UNDEFINED
BAND_CONTENT: UNDEFINED
BITS_PER_PIXEL: 8
SAMPLES_AND_LINES: 5286 7564
HORIZONTAL_DATUM: NAD83
HORIZONTAL_COORDINATE_SYSTEM: UTM
COORDINATE_ZONE: 12
HORIZONTAL_UNITS: METERS
HORIZONTAL_RESOLUTION: 1.00000
SECONDARY_HORIZONTAL_DATUM: NAD27
XY_ORIGIN: 481216.00000 5393048.00000
SECONDARY_XY_ORIGIN: 481275.76200 5392829.59600
NATION: US
NATION: "SCIENCE
STATE: MT
NW_QUAD_CORNER_XY: 481600.25400 5392747.73600
NE_QUAD_CORNER_XY: 486200.18800 5392734.54500
SE_QUAD_CORNERY_XY: 486183.11900 5385787.13800
SW_QUAD_CORNER_XY: 481577.49500 5385800.33300
SECONDARY_NW_QUAD_XY: 481599.66600 5392528.74400
SECONDARY_NE_QUAD_XY: 486199.74700 5392515.55300
SECONDARY_SE_QUAD_XY: 486182.67900 5385568.15100
SECONDARY_SW_QUAD_XY: 481576.90800 5385581.34700
RMSE_XY: 1.60000
IMAGE_SOURCE: BLACK AND WHITE FILM
SOURCE_IMAGE_ID: NAPP 9170 032
SOURCE_IMAGE_DATE: 1997 08 22
SOURCE_DEM_DATE: 1977 00 00
AGENCY: WESTERN MAPPING CENTER (WMC)
PRODUCER: UNDEFINED
PRODUCTION_SYSTEM: GIS/MAGIC
COMPRESSION: UNDEFINED
STANDARD_VERSION: 1996 12
METADATA_DATE: 2000 11 07
DATA_FILE_SIZE: 39988590
BYTE_COUNT: 5286
