FILENAME: O4811122.SWS.45237.tif
QUADRANGLE_NAME: BERKHOLDER RESERVOIR
QUADRANT: SW
WEST_LONGITUDE: -111 22 30.00000
EAST_LONGITUDE: -111 18 45.00000
NORTH_LATITUDE: 48 41 15.00000
SOUTH_LATITUDE: 48 37 30.00000
PRODUCTION_DATE: 1995 6 27
RASTER_ORDER: LEFT_RIGHT/TOP_BOTTOM
BAND_ORGANIZATION: SINGLE FILE
BAND_CONTENT: BLACK&WHITE
BAND_CONTENT: UNDEFINED
BAND_CONTENT: UNDEFINED
BITS_PER_PIXEL: 8
SAMPLES_AND_LINES: 5244 7578
HORIZONTAL_DATUM: NAD83
HORIZONTAL_COORDINATE_SYSTEM: UTM
COORDINATE_ZONE: 12
HORIZONTAL_UNITS: METERS
HORIZONTAL_RESOLUTION: 1.00000
SECONDARY_HORIZONTAL_DATUM: NAD27
XY_ORIGIN: 472061.50000 5393089.50000
SECONDARY_XY_ORIGIN: 472121.47400 5392870.79200
NATION: US
STATE: MT
NW_QUAD_CORNER_XY: 472400.39400 5392785.42700
NE_QUAD_CORNER_XY: 477000.32200 5392764.69700
SE_QUAD_CORNERY_XY: 476971.87400 5385817.29800
SW_QUAD_CORNER_XY: 472366.25600 5385838.03300
SECONDARY_NW_QUAD_XY: 472399.51400 5392566.43600
SECONDARY_NE_QUAD_XY: 476999.58800 5392545.70600
SECONDARY_SE_QUAD_XY: 476971.14000 5385598.31300
SECONDARY_SW_QUAD_XY: 472365.37600 5385619.04800
RMSE_XY: 1.80000
IMAGE_SOURCE: BLACK AND WHITE FILM
SOURCE_IMAGE_ID: NAPP 3887 144
SOURCE_IMAGE_DATE: 1991 7 12
SOURCE_DEM_DATE: 1995 6 27
AGENCY: WESTERN MAPPING CENTER (WMC)
PRODUCER: Woolpert Consultants
PRODUCTION_SYSTEM: INTERGRAPH ISPM,ISIR
COMPRESSION: UNDEFINED
STANDARD_VERSION: 1996 12
METADATA_DATE: 1997 6 15
DATA_FILE_SIZE: 39744276
BYTE_COUNT: 5244
