FILENAME: O4811118.SES.45750.tif
QUADRANGLE_NAME: OILMONT
QUADRANT: SE
WEST_LONGITUDE: -111 48 45.00000
EAST_LONGITUDE: -111 45 0.00000
NORTH_LATITUDE: 48 41 15.00000
SOUTH_LATITUDE: 48 37 30.00000
PRODUCTION_DATE: 1995 6 28
RASTER_ORDER: LEFT_RIGHT/TOP_BOTTOM
BAND_ORGANIZATION: SINGLE FILE
BAND_CONTENT: BLACK&WHITE
BAND_CONTENT: UNDEFINED
BAND_CONTENT: UNDEFINED
BITS_PER_PIXEL: 8
SAMPLES_AND_LINES: 5284 7604
HORIZONTAL_DATUM: NAD83
HORIZONTAL_COORDINATE_SYSTEM: UTM
COORDINATE_ZONE: 12
HORIZONTAL_UNITS: METERS
HORIZONTAL_RESOLUTION: 1.00000
SECONDARY_HORIZONTAL_DATUM: NAD27
XY_ORIGIN: 439822.50000 5393340.50000
SECONDARY_XY_ORIGIN: 439884.07600 5393121.41400
NATION: US
STATE: MT
NW_QUAD_CORNER_XY: 440201.05500 5393036.06900
NE_QUAD_CORNER_XY: 444800.93900 5392988.95500
SE_QUAD_CORNERY_XY: 444732.66100 5386041.61800
SW_QUAD_CORNER_XY: 440127.08600 5386088.74500
SECONDARY_NW_QUAD_XY: 440199.14700 5392817.08600
SECONDARY_NE_QUAD_XY: 444799.17700 5392769.97100
SECONDARY_SE_QUAD_XY: 444730.89900 5385822.64000
SECONDARY_SW_QUAD_XY: 440125.17800 5385869.76800
RMSE_XY: 1.30000
IMAGE_SOURCE: BLACK AND WHITE FILM
SOURCE_IMAGE_ID: NAPP 3890 119
SOURCE_IMAGE_DATE: 1991 7 20
SOURCE_DEM_DATE: 1995 6 28
AGENCY: WESTERN MAPPING CENTER (WMC)
PRODUCER: Woolpert Consultants
PRODUCTION_SYSTEM: INTERGRAPH ISPM,ISIR
COMPRESSION: UNDEFINED
STANDARD_VERSION: 1996 12
METADATA_DATE: 1997 6 15
DATA_FILE_SIZE: 40184820
BYTE_COUNT: 5284
