FILENAME: O4811116.SWS.1115474.tif
QUADRANGLE_NAME: MOUNT LEBANON
QUADRANT: SW
WEST_LONGITUDE: -111 7 30.00000
EAST_LONGITUDE: -111 3 45.00000
NORTH_LATITUDE: 48 48 45.00000
SOUTH_LATITUDE: 48 45 0.00000
PRODUCTION_DATE: 2000 10 17
RASTER_ORDER: LEFT_RIGHT/TOP_BOTTOM
BAND_ORGANIZATION: SINGLE FILE
BAND_CONTENT: BLACK&WHITE
BAND_CONTENT: UNDEFINED
BAND_CONTENT: UNDEFINED
BITS_PER_PIXEL: 8
SAMPLES_AND_LINES: 5263 7557
HORIZONTAL_DATUM: NAD83
HORIZONTAL_COORDINATE_SYSTEM: UTM
COORDINATE_ZONE: 12
HORIZONTAL_UNITS: METERS
HORIZONTAL_RESOLUTION: 1.00000
SECONDARY_HORIZONTAL_DATUM: NAD27
XY_ORIGIN: 490450.00000 5406921.00000
SECONDARY_XY_ORIGIN: 490509.16700 5406701.95900
NATION: US
NATION: "SCIENCE
STATE: MT
NW_QUAD_CORNER_XY: 490822.91600 5406620.17000
NE_QUAD_CORNER_XY: 495411.45700 5406614.51900
SE_QUAD_CORNERY_XY: 495405.75700 5399666.95700
SW_QUAD_CORNER_XY: 490811.51400 5399672.60800
SECONDARY_NW_QUAD_XY: 490822.62200 5406401.16700
SECONDARY_NE_QUAD_XY: 495411.31100 5406395.51700
SECONDARY_SE_QUAD_XY: 495405.61000 5399447.95800
SECONDARY_SW_QUAD_XY: 490811.22100 5399453.61000
RMSE_XY: 1.20000
IMAGE_SOURCE: BLACK AND WHITE FILM
SOURCE_IMAGE_ID: NAPP 9169 112
SOURCE_IMAGE_DATE: 1997 07 25
SOURCE_DEM_DATE: 1961 00 00
AGENCY: WESTERN MAPPING CENTER (WMC)
PRODUCER: UNDEFINED
PRODUCTION_SYSTEM: GIS/MAGIC
COMPRESSION: UNDEFINED
STANDARD_VERSION: 1996 12
METADATA_DATE: 2000 11 29
DATA_FILE_SIZE: 39777754
BYTE_COUNT: 5263
