FILENAME: O4811114.SWS.45233.tif
QUADRANGLE_NAME: GRASSY BUTTE
QUADRANT: SW
WEST_LONGITUDE: -111 22 30.00000
EAST_LONGITUDE: -111 18 45.00000
NORTH_LATITUDE: 48 48 45.00000
SOUTH_LATITUDE: 48 45 0.00000
PRODUCTION_DATE: 1995 6 27
RASTER_ORDER: LEFT_RIGHT/TOP_BOTTOM
BAND_ORGANIZATION: SINGLE FILE
BAND_CONTENT: BLACK&WHITE
BAND_CONTENT: UNDEFINED
BAND_CONTENT: UNDEFINED
BITS_PER_PIXEL: 8
SAMPLES_AND_LINES: 5232 7578
HORIZONTAL_DATUM: NAD83
HORIZONTAL_COORDINATE_SYSTEM: UTM
COORDINATE_ZONE: 12
HORIZONTAL_UNITS: METERS
HORIZONTAL_RESOLUTION: 1.00000
SECONDARY_HORIZONTAL_DATUM: NAD27
XY_ORIGIN: 472130.50000 5406984.50000
SECONDARY_XY_ORIGIN: 472189.94600 5406765.05700
NATION: US
STATE: MT
NW_QUAD_CORNER_XY: 472468.77000 5406680.43900
NE_QUAD_CORNER_XY: 477057.30200 5406659.72200
SE_QUAD_CORNERY_XY: 477028.79800 5399712.17200
SW_QUAD_CORNER_XY: 472434.56600 5399732.89500
SECONDARY_NW_QUAD_XY: 472467.88900 5406461.43900
SECONDARY_NE_QUAD_XY: 477056.56700 5406440.72100
SECONDARY_SE_QUAD_XY: 477028.06400 5399493.17500
SECONDARY_SW_QUAD_XY: 472433.68500 5399513.89900
RMSE_XY: 1.40000
IMAGE_SOURCE: BLACK AND WHITE FILM
SOURCE_IMAGE_ID: NAPP 3889 008
SOURCE_IMAGE_DATE: 1991 7 12
SOURCE_DEM_DATE: 1995 6 27
AGENCY: WESTERN MAPPING CENTER (WMC)
PRODUCER: Woolpert Consultants
PRODUCTION_SYSTEM: INTERGRAPH ISPM,ISIR
COMPRESSION: UNDEFINED
STANDARD_VERSION: 1996 12
METADATA_DATE: 1997 6 15
DATA_FILE_SIZE: 39653328
BYTE_COUNT: 5232
