FILENAME: O4811113.NWS.45338.tif
QUADRANGLE_NAME: CAMERON LAKE
QUADRANT: NW
WEST_LONGITUDE: -111 30 0.00000
EAST_LONGITUDE: -111 26 15.00000
NORTH_LATITUDE: 48 52 30.00000
SOUTH_LATITUDE: 48 48 45.00000
PRODUCTION_DATE: 1995 6 27
RASTER_ORDER: LEFT_RIGHT/TOP_BOTTOM
BAND_ORGANIZATION: SINGLE FILE
BAND_CONTENT: BLACK&WHITE
BAND_CONTENT: UNDEFINED
BAND_CONTENT: UNDEFINED
BITS_PER_PIXEL: 8
SAMPLES_AND_LINES: 5238 7586
HORIZONTAL_DATUM: NAD83
HORIZONTAL_COORDINATE_SYSTEM: UTM
COORDINATE_ZONE: 12
HORIZONTAL_UNITS: METERS
HORIZONTAL_RESOLUTION: 1.00000
SECONDARY_HORIZONTAL_DATUM: NAD27
XY_ORIGIN: 462987.50000 5413985.50000
SECONDARY_XY_ORIGIN: 463046.67200 5413765.34800
NATION: US
STATE: MT
NW_QUAD_CORNER_XY: 463337.37000 5413680.77900
NE_QUAD_CORNER_XY: 467920.18600 5413652.53600
SE_QUAD_CORNERY_XY: 467880.24200 5406704.92400
SW_QUAD_CORNER_XY: 463291.72000 5406733.17500
SECONDARY_NW_QUAD_XY: 463336.19500 5413461.77700
SECONDARY_NE_QUAD_XY: 467919.15800 5413433.53300
SECONDARY_SE_QUAD_XY: 467879.21500 5406485.92400
SECONDARY_SW_QUAD_XY: 463290.54500 5406514.17700
RMSE_XY: 2.30000
IMAGE_SOURCE: BLACK AND WHITE FILM
SOURCE_IMAGE_ID: NAPP 3887 200
SOURCE_IMAGE_DATE: 1991 7 12
SOURCE_DEM_DATE: 1995 6 27
AGENCY: WESTERN MAPPING CENTER (WMC)
PRODUCER: Woolpert Consultants
PRODUCTION_SYSTEM: INTERGRAPH ISPM,ISIR
COMPRESSION: UNDEFINED
STANDARD_VERSION: 1996 12
METADATA_DATE: 1997 6 15
DATA_FILE_SIZE: 39740706
BYTE_COUNT: 5238
