FILENAME: O4811110.NES.45744.tif
QUADRANGLE_NAME: FERDIG
QUADRANT: NE
WEST_LONGITUDE: -111 48 45.00000
EAST_LONGITUDE: -111 45 0.00000
NORTH_LATITUDE: 48 52 30.00000
SOUTH_LATITUDE: 48 48 45.00000
PRODUCTION_DATE: 1995 6 28
RASTER_ORDER: LEFT_RIGHT/TOP_BOTTOM
BAND_ORGANIZATION: SINGLE FILE
BAND_CONTENT: BLACK&WHITE
BAND_CONTENT: UNDEFINED
BAND_CONTENT: UNDEFINED
BITS_PER_PIXEL: 8
SAMPLES_AND_LINES: 5268 7604
HORIZONTAL_DATUM: NAD83
HORIZONTAL_COORDINATE_SYSTEM: UTM
COORDINATE_ZONE: 12
HORIZONTAL_UNITS: METERS
HORIZONTAL_RESOLUTION: 1.00000
SECONDARY_HORIZONTAL_DATUM: NAD27
XY_ORIGIN: 440044.50000 5414182.50000
SECONDARY_XY_ORIGIN: 440105.69600 5413962.64200
NATION: US
STATE: MT
NW_QUAD_CORNER_XY: 440423.39200 5413878.48600
NE_QUAD_CORNER_XY: 445006.17100 5413831.41300
SE_QUAD_CORNERY_XY: 444937.69400 5406883.85200
SW_QUAD_CORNER_XY: 440349.20800 5406930.94000
SECONDARY_NW_QUAD_XY: 440421.48300 5413659.49000
SECONDARY_NE_QUAD_XY: 445004.40900 5413612.41500
SECONDARY_SE_QUAD_XY: 444935.93300 5406664.85800
SECONDARY_SW_QUAD_XY: 440347.29900 5406711.94700
RMSE_XY: 1.40000
IMAGE_SOURCE: BLACK AND WHITE FILM
SOURCE_IMAGE_ID: NAPP 3890 113
SOURCE_IMAGE_DATE: 1991 7 20
SOURCE_DEM_DATE: 1995 6 28
AGENCY: WESTERN MAPPING CENTER (WMC)
PRODUCER: Woolpert Consultants
PRODUCTION_SYSTEM: INTERGRAPH ISPM,ISIR
COMPRESSION: UNDEFINED
STANDARD_VERSION: 1996 12
METADATA_DATE: 1997 6 15
DATA_FILE_SIZE: 40063140
BYTE_COUNT: 5268
