FILENAME: O4811105.SES.958424.tif
QUADRANGLE_NAME: FEY LAKES
QUADRANT: SE
WEST_LONGITUDE: -111 26 15.00000
EAST_LONGITUDE: -111 22 30.00000
NORTH_LATITUDE: 48 56 15.00000
SOUTH_LATITUDE: 48 52 30.00000
PRODUCTION_DATE: 1999 1 19
RASTER_ORDER: LEFT_RIGHT/TOP_BOTTOM
BAND_ORGANIZATION: SINGLE FILE
BAND_CONTENT: BLACK&WHITE
BAND_CONTENT: UNDEFINED
BAND_CONTENT: UNDEFINED
BITS_PER_PIXEL: 8
SAMPLES_AND_LINES: 5280 7577
HORIZONTAL_DATUM: NAD83
HORIZONTAL_COORDINATE_SYSTEM: UTM
COORDINATE_ZONE: 12
HORIZONTAL_UNITS: METERS
HORIZONTAL_RESOLUTION: 1.00000
SECONDARY_HORIZONTAL_DATUM: NAD27
XY_ORIGIN: 467559.00000 5420903.00000
SECONDARY_XY_ORIGIN: 467617.00000 5420683.00000
NATION: US
STATE: MT
NW_QUAD_CORNER_XY: 467960.16800 5420600.22400
NE_QUAD_CORNER_XY: 472537.27700 5420575.75400
SE_QUAD_CORNERY_XY: 472503.00700 5413628.05900
SW_QUAD_CORNER_XY: 467920.18600 5413652.53600
SECONDARY_NW_QUAD_XY: 467959.14000 5420381.21800
SECONDARY_NE_QUAD_XY: 472536.39600 5420356.74800
SECONDARY_SE_QUAD_XY: 472502.12600 5413409.05500
SECONDARY_SW_QUAD_XY: 467919.15800 5413433.53400
RMSE_XY: 1.90000
IMAGE_SOURCE: BLACK AND WHITE FILM
SOURCE_IMAGE_ID: NAPP 9176 103
SOURCE_IMAGE_DATE: 1997 8 30
SOURCE_DEM_DATE: 1983 0 0
AGENCY: WESTERN MAPPING CENTER (WMC)
PRODUCER: ROCKY MOUNTAIN MAPPING CENTER (RMMC)
PRODUCTION_SYSTEM: DV2.6.3 10/9OV2.4 5/95
COMPRESSION: UNDEFINED
STANDARD_VERSION: 1996 12
METADATA_DATE: 1999 1 19
DATA_FILE_SIZE: 40011840
BYTE_COUNT: 5280
