FILENAME: O4811105.SWS.958426.tif
QUADRANGLE_NAME: FEY LAKES
QUADRANT: SW
WEST_LONGITUDE: -111 30 0.00000
EAST_LONGITUDE: -111 26 15.00000
NORTH_LATITUDE: 48 56 15.00000
SOUTH_LATITUDE: 48 52 30.00000
PRODUCTION_DATE: 1999 1 19
RASTER_ORDER: LEFT_RIGHT/TOP_BOTTOM
BAND_ORGANIZATION: SINGLE FILE
BAND_CONTENT: BLACK&WHITE
BAND_CONTENT: UNDEFINED
BAND_CONTENT: UNDEFINED
BITS_PER_PIXEL: 8
SAMPLES_AND_LINES: 5284 7580
HORIZONTAL_DATUM: NAD83
HORIZONTAL_COORDINATE_SYSTEM: UTM
COORDINATE_ZONE: 12
HORIZONTAL_UNITS: METERS
HORIZONTAL_RESOLUTION: 1.00000
SECONDARY_HORIZONTAL_DATUM: NAD27
XY_ORIGIN: 462976.00000 5420931.00000
SECONDARY_XY_ORIGIN: 463034.00000 5420711.00000
NATION: US
STATE: MT
NW_QUAD_CORNER_XY: 463383.06400 5420628.45900
NE_QUAD_CORNER_XY: 467960.16800 5420600.22400
SE_QUAD_CORNERY_XY: 467920.18600 5413652.53600
SW_QUAD_CORNER_XY: 463337.37000 5413680.78000
SECONDARY_NW_QUAD_XY: 463381.88900 5420409.45400
SECONDARY_NE_QUAD_XY: 467959.14000 5420381.21800
SECONDARY_SE_QUAD_XY: 467919.15800 5413433.53400
SECONDARY_SW_QUAD_XY: 463336.19500 5413461.77800
RMSE_XY: 1.80000
IMAGE_SOURCE: BLACK AND WHITE FILM
SOURCE_IMAGE_ID: NAPP 9176 038
SOURCE_IMAGE_DATE: 1997 8 30
SOURCE_DEM_DATE: 1983 0 0
AGENCY: WESTERN MAPPING CENTER (WMC)
PRODUCER: ROCKY MOUNTAIN MAPPING CENTER (RMMC)
PRODUCTION_SYSTEM: DV2.6.3 10/9OV2.4 5/95
COMPRESSION: UNDEFINED
STANDARD_VERSION: 1996 12
METADATA_DATE: 1999 1 19
DATA_FILE_SIZE: 40058004
BYTE_COUNT: 5284
