FILENAME: O4811104.SES.958409.tif
QUADRANGLE_NAME: WEST BUTTE
QUADRANT: SE
WEST_LONGITUDE: -111 33 45.00000
EAST_LONGITUDE: -111 30 0.00000
NORTH_LATITUDE: 48 56 15.00000
SOUTH_LATITUDE: 48 52 30.00000
PRODUCTION_DATE: 1999 1 15
RASTER_ORDER: LEFT_RIGHT/TOP_BOTTOM
BAND_ORGANIZATION: SINGLE FILE
BAND_CONTENT: BLACK&WHITE
BAND_CONTENT: UNDEFINED
BAND_CONTENT: UNDEFINED
BITS_PER_PIXEL: 8
SAMPLES_AND_LINES: 5292 7584
HORIZONTAL_DATUM: NAD83
HORIZONTAL_COORDINATE_SYSTEM: UTM
COORDINATE_ZONE: 12
HORIZONTAL_UNITS: METERS
HORIZONTAL_RESOLUTION: 1.00000
SECONDARY_HORIZONTAL_DATUM: NAD27
XY_ORIGIN: 458393.00000 5420963.00000
SECONDARY_XY_ORIGIN: 458452.19500 5420742.50700
NATION: US
STATE: MT
NW_QUAD_CORNER_XY: 458805.96600 5420660.45900
NE_QUAD_CORNER_XY: 463383.06400 5420628.45900
SE_QUAD_CORNERY_XY: 463337.37000 5413680.78000
SW_QUAD_CORNER_XY: 458754.56000 5413712.78900
SECONDARY_NW_QUAD_XY: 458804.64400 5420441.45500
SECONDARY_NE_QUAD_XY: 463381.88900 5420409.45400
SECONDARY_SE_QUAD_XY: 463336.19500 5413461.77800
SECONDARY_SW_QUAD_XY: 458753.23800 5413493.78800
RMSE_XY: 2.70000
IMAGE_SOURCE: BLACK AND WHITE FILM
SOURCE_IMAGE_ID: NAPP 9176 047
SOURCE_IMAGE_DATE: 1997 8 30
SOURCE_DEM_DATE: 1983 0 0
AGENCY: WESTERN MAPPING CENTER (WMC)
PRODUCER: ROCKY MOUNTAIN MAPPING CENTER (RMMC)
PRODUCTION_SYSTEM: DV2.6.3 10/9OV2.4 5/95
COMPRESSION: UNDEFINED
STANDARD_VERSION: 1996 12
METADATA_DATE: 1999 1 19
DATA_FILE_SIZE: 40139820
BYTE_COUNT: 5292
