FILENAME: O4811101.NWS.958394.tif
QUADRANGLE_NAME: SUNBURST
QUADRANT: NW
WEST_LONGITUDE: -112 0 0.00000
EAST_LONGITUDE: -111 56 15.00000
NORTH_LATITUDE: 49 0 0.00000
SOUTH_LATITUDE: 48 56 15.00000
PRODUCTION_DATE: 1999 1 13
RASTER_ORDER: LEFT_RIGHT/TOP_BOTTOM
BAND_ORGANIZATION: SINGLE FILE
BAND_CONTENT: BLACK&WHITE
BAND_CONTENT: UNDEFINED
BAND_CONTENT: UNDEFINED
BITS_PER_PIXEL: 8
SAMPLES_AND_LINES: 5328 7609
HORIZONTAL_DATUM: NAD83
HORIZONTAL_COORDINATE_SYSTEM: UTM
COORDINATE_ZONE: 12
HORIZONTAL_UNITS: METERS
HORIZONTAL_RESOLUTION: 1.00000
SECONDARY_HORIZONTAL_DATUM: NAD27
XY_ORIGIN: 426401.00000 5428239.00000
SECONDARY_XY_ORIGIN: 426462.89500 5428019.50400
NATION: US
NATION: CA
STATE: MT
NW_QUAD_CORNER_XY: 426857.98800 5427937.52400
NE_QUAD_CORNER_XY: 431429.30500 5427879.18600
SE_QUAD_CORNERY_XY: 431343.54200 5420931.52200
SW_QUAD_CORNER_XY: 426766.50600 5420989.87800
SECONDARY_NW_QUAD_XY: 426855.63800 5427718.52900
SECONDARY_NE_QUAD_XY: 431427.10300 5427660.18900
SECONDARY_SE_QUAD_XY: 431341.34000 5420712.52800
SECONDARY_SW_QUAD_XY: 426764.15700 5420770.88500
RMSE_XY: 2.50000
IMAGE_SOURCE: BLACK AND WHITE FILM
SOURCE_IMAGE_ID: NAPP 9178 134
SOURCE_IMAGE_DATE: 1997 9 4
SOURCE_DEM_DATE: 1983 0 0
AGENCY: WESTERN MAPPING CENTER (WMC)
PRODUCER: ROCKY MOUNTAIN MAPPING CENTER (RMMC)
PRODUCTION_SYSTEM: DV2.6.3 10/9OV2.4 5/95
COMPRESSION: UNDEFINED
STANDARD_VERSION: 1996 12
METADATA_DATE: 1999 1 14
DATA_FILE_SIZE: 40546080
BYTE_COUNT: 5328
