FILENAME: O4811101.SES.958395.tif
QUADRANGLE_NAME: SUNBURST
QUADRANT: SE
WEST_LONGITUDE: -111 56 15.00000
EAST_LONGITUDE: -111 52 30.00000
NORTH_LATITUDE: 48 56 15.00000
SOUTH_LATITUDE: 48 52 30.00000
PRODUCTION_DATE: 1999 1 13
RASTER_ORDER: LEFT_RIGHT/TOP_BOTTOM
BAND_ORGANIZATION: SINGLE FILE
BAND_CONTENT: BLACK&WHITE
BAND_CONTENT: UNDEFINED
BAND_CONTENT: UNDEFINED
BITS_PER_PIXEL: 8
SAMPLES_AND_LINES: 5328 7606
HORIZONTAL_DATUM: NAD83
HORIZONTAL_COORDINATE_SYSTEM: UTM
COORDINATE_ZONE: 12
HORIZONTAL_UNITS: METERS
HORIZONTAL_RESOLUTION: 1.00000
SECONDARY_HORIZONTAL_DATUM: NAD27
XY_ORIGIN: 430893.00000 5421233.00000
SECONDARY_XY_ORIGIN: 430954.62100 5421013.46600
NATION: US
STATE: MT
NW_QUAD_CORNER_XY: 431343.54200 5420931.52200
NE_QUAD_CORNER_XY: 435920.58900 5420876.93200
SE_QUAD_CORNERY_XY: 435840.62200 5413929.32600
SW_QUAD_CORNER_XY: 431257.86200 5413983.93300
SECONDARY_NW_QUAD_XY: 431341.34000 5420712.52800
SECONDARY_NE_QUAD_XY: 435918.53400 5420657.93600
SECONDARY_SE_QUAD_XY: 435838.56600 5413710.33200
SECONDARY_SW_QUAD_XY: 431255.65900 5413764.94000
RMSE_XY: 2.00000
IMAGE_SOURCE: BLACK AND WHITE FILM
SOURCE_IMAGE_ID: NAPP 9178 073
SOURCE_IMAGE_DATE: 1997 9 4
SOURCE_DEM_DATE: 1983 0 0
AGENCY: WESTERN MAPPING CENTER (WMC)
PRODUCER: ROCKY MOUNTAIN MAPPING CENTER (RMMC)
PRODUCTION_SYSTEM: DV2.6.3 10/9OV2.4 5/95
COMPRESSION: UNDEFINED
STANDARD_VERSION: 1996 12
METADATA_DATE: 1999 1 14
DATA_FILE_SIZE: 40530096
BYTE_COUNT: 5328
