FILENAME: O4811263.NWS.950373.tif
QUADRANGLE_NAME: AGAWAM NORTH
QUADRANT: NW
WEST_LONGITUDE: -112 15 0.00000
EAST_LONGITUDE: -112 11 15.00000
NORTH_LATITUDE: 48 7 30.00000
SOUTH_LATITUDE: 48 3 45.00000
PRODUCTION_DATE: 1998 12 16
RASTER_ORDER: LEFT_RIGHT/TOP_BOTTOM
BAND_ORGANIZATION: SINGLE FILE
BAND_CONTENT: BLACK&WHITE
BAND_CONTENT: UNDEFINED
BAND_CONTENT: UNDEFINED
BITS_PER_PIXEL: 8
SAMPLES_AND_LINES: 5460 7650
HORIZONTAL_DATUM: NAD83
HORIZONTAL_COORDINATE_SYSTEM: UTM
COORDINATE_ZONE: 12
HORIZONTAL_UNITS: METERS
HORIZONTAL_RESOLUTION: 1.00000
SECONDARY_HORIZONTAL_DATUM: NAD27
XY_ORIGIN: 406500.00000 5331270.00000
SECONDARY_XY_ORIGIN: 406561.50900 5331053.94300
NATION: US
STATE: MT
NW_QUAD_CORNER_XY: 406981.88800 5330949.19000
NE_QUAD_CORNER_XY: 411632.72000 5330875.51700
SE_QUAD_CORNERY_XY: 411525.55400 5323928.94600
SW_QUAD_CORNER_XY: 406869.08000 5324002.63700
SECONDARY_NW_QUAD_XY: 406978.95300 5330730.30600
SECONDARY_NE_QUAD_XY: 411629.93200 5330656.62900
SECONDARY_SE_QUAD_XY: 411522.76600 5323710.07300
SECONDARY_SW_QUAD_XY: 406866.14600 5323783.76600
RMSE_XY: 1.00000
IMAGE_SOURCE: BLACK AND WHITE FILM
SOURCE_IMAGE_ID: NAPP 8380 120
SOURCE_IMAGE_DATE: 1995 07 01
SOURCE_DEM_DATE: 1980 00 00
AGENCY: WESTERN MAPPING CENTER (WMC)
PRODUCER: ANALYTICAL SURVEYS INC.
PRODUCTION_SYSTEM: ORBIT OR_RECTIFY V.5.2
COMPRESSION: UNDEFINED
STANDARD_VERSION: 1996 12
METADATA_DATE: 1998 12 17
DATA_FILE_SIZE: 41774460
BYTE_COUNT: 5460
