FILENAME: O4811262.NES.950360.tif
QUADRANGLE_NAME: PENDROY
QUADRANT: NE
WEST_LONGITUDE: -112 18 45.00000
EAST_LONGITUDE: -112 15 0.00000
NORTH_LATITUDE: 48 7 30.00000
SOUTH_LATITUDE: 48 3 45.00000
PRODUCTION_DATE: 1998 12 16
RASTER_ORDER: LEFT_RIGHT/TOP_BOTTOM
BAND_ORGANIZATION: SINGLE FILE
BAND_CONTENT: BLACK&WHITE
BAND_CONTENT: UNDEFINED
BAND_CONTENT: UNDEFINED
BITS_PER_PIXEL: 8
SAMPLES_AND_LINES: 5490 7650
HORIZONTAL_DATUM: NAD83
HORIZONTAL_COORDINATE_SYSTEM: UTM
COORDINATE_ZONE: 12
HORIZONTAL_UNITS: METERS
HORIZONTAL_RESOLUTION: 1.00000
SECONDARY_HORIZONTAL_DATUM: NAD27
XY_ORIGIN: 401820.00000 5331330.00000
SECONDARY_XY_ORIGIN: 401881.55600 5331113.92900
NATION: US
STATE: MT
NW_QUAD_CORNER_XY: 402331.06800 5331026.64300
NE_QUAD_CORNER_XY: 406981.88800 5330949.19000
SE_QUAD_CORNERY_XY: 406869.08000 5324002.63700
SW_QUAD_CORNER_XY: 402212.61800 5324080.10800
SECONDARY_NW_QUAD_XY: 402327.98600 5330807.76100
SECONDARY_NE_QUAD_XY: 406978.95300 5330730.30600
SECONDARY_SE_QUAD_XY: 406866.14600 5323783.76600
SECONDARY_SW_QUAD_XY: 402209.53700 5323861.23900
RMSE_XY: 0.95000
IMAGE_SOURCE: BLACK AND WHITE FILM
SOURCE_IMAGE_ID: NAPP 8381 29
SOURCE_IMAGE_DATE: 1995 07 28
SOURCE_DEM_DATE: 1980 00 00
AGENCY: WESTERN MAPPING CENTER (WMC)
PRODUCER: ANALYTICAL SURVEYS INC.
PRODUCTION_SYSTEM: ORBIT OR_RECTIFY V.5.2
COMPRESSION: UNDEFINED
STANDARD_VERSION: 1996 12
METADATA_DATE: 1998 12 30
DATA_FILE_SIZE: 42003990
BYTE_COUNT: 5490
