FILENAME: O4811262.NWS.950361.tif
QUADRANGLE_NAME: PENDROY
QUADRANT: NW
WEST_LONGITUDE: -112 22 30.00000
EAST_LONGITUDE: -112 18 45.00000
NORTH_LATITUDE: 48 7 30.00000
SOUTH_LATITUDE: 48 3 45.00000
PRODUCTION_DATE: 1998 12 16
RASTER_ORDER: LEFT_RIGHT/TOP_BOTTOM
BAND_ORGANIZATION: SINGLE FILE
BAND_CONTENT: BLACK&WHITE
BAND_CONTENT: UNDEFINED
BAND_CONTENT: UNDEFINED
BITS_PER_PIXEL: 8
SAMPLES_AND_LINES: 5490 7650
HORIZONTAL_DATUM: NAD83
HORIZONTAL_COORDINATE_SYSTEM: UTM
COORDINATE_ZONE: 12
HORIZONTAL_UNITS: METERS
HORIZONTAL_RESOLUTION: 1.00000
SECONDARY_HORIZONTAL_DATUM: NAD27
XY_ORIGIN: 397170.00000 5331420.00000
SECONDARY_XY_ORIGIN: 397231.60500 5331203.92200
NATION: US
STATE: MT
NW_QUAD_CORNER_XY: 397680.26000 5331107.87600
NE_QUAD_CORNER_XY: 402331.06800 5331026.64300
SE_QUAD_CORNERY_XY: 402212.61800 5324080.10800
SW_QUAD_CORNER_XY: 397556.16800 5324161.36000
SECONDARY_NW_QUAD_XY: 397677.03200 5330888.99600
SECONDARY_NE_QUAD_XY: 402327.98600 5330807.76100
SECONDARY_SE_QUAD_XY: 402209.53700 5323861.23900
SECONDARY_SW_QUAD_XY: 397552.94000 5323942.49300
RMSE_XY: 0.60000
IMAGE_SOURCE: BLACK AND WHITE FILM
SOURCE_IMAGE_ID: NAPP 8381 89
SOURCE_IMAGE_DATE: 1995 07 28
SOURCE_DEM_DATE: 1980 00 00
AGENCY: WESTERN MAPPING CENTER (WMC)
PRODUCER: ANALYTICAL SURVEYS INC.
PRODUCTION_SYSTEM: ORBIT OR_RECTIFY V.5.2
COMPRESSION: UNDEFINED
STANDARD_VERSION: 1996 12
METADATA_DATE: 1998 12 30
DATA_FILE_SIZE: 42003990
BYTE_COUNT: 5490
