FILENAME: O4811261.NWS.950248.tif
QUADRANGLE_NAME: SOAP CREEK
QUADRANT: NW
WEST_LONGITUDE: -112 30 0.00000
EAST_LONGITUDE: -112 26 15.00000
NORTH_LATITUDE: 48 7 30.00000
SOUTH_LATITUDE: 48 3 45.00000
PRODUCTION_DATE: 1998 12 16
RASTER_ORDER: LEFT_RIGHT/TOP_BOTTOM
BAND_ORGANIZATION: SINGLE FILE
BAND_CONTENT: BLACK&WHITE
BAND_CONTENT: UNDEFINED
BAND_CONTENT: UNDEFINED
BITS_PER_PIXEL: 8
SAMPLES_AND_LINES: 5460 7680
HORIZONTAL_DATUM: NAD83
HORIZONTAL_COORDINATE_SYSTEM: UTM
COORDINATE_ZONE: 12
HORIZONTAL_UNITS: METERS
HORIZONTAL_RESOLUTION: 1.00000
SECONDARY_HORIZONTAL_DATUM: NAD27
XY_ORIGIN: 387870.00000 5331600.00000
SECONDARY_XY_ORIGIN: 387931.70100 5331383.90700
NATION: US
STATE: MT
NW_QUAD_CORNER_XY: 388378.68500 5331281.67900
NE_QUAD_CORNER_XY: 393029.46600 5331192.88700
SE_QUAD_CORNERY_XY: 392899.73200 5324246.39100
SW_QUAD_CORNER_XY: 388243.30800 5324335.20300
SECONDARY_NW_QUAD_XY: 388375.16300 5331062.80500
SECONDARY_NE_QUAD_XY: 393026.09100 5330974.01000
SECONDARY_SE_QUAD_XY: 392896.35700 5324027.52800
SECONDARY_SW_QUAD_XY: 388239.78700 5324116.34300
RMSE_XY: 2.05000
IMAGE_SOURCE: BLACK AND WHITE FILM
SOURCE_IMAGE_ID: NAPP 8384 98
SOURCE_IMAGE_DATE: 1995 08 04
SOURCE_DEM_DATE: 1980 00 00
AGENCY: WESTERN MAPPING CENTER (WMC)
PRODUCER: ANALYTICAL SURVEYS INC.
PRODUCTION_SYSTEM: ORBIT OR_RECTIFY V.5.2
COMPRESSION: UNDEFINED
STANDARD_VERSION: 1996 12
METADATA_DATE: 1998 12 17
DATA_FILE_SIZE: 41938260
BYTE_COUNT: 5460
