FILENAME: O4811260.SWS.950155.tif
QUADRANGLE_NAME: BLACKLEAF
QUADRANT: SW
WEST_LONGITUDE: -112 37 30.00000
EAST_LONGITUDE: -112 33 45.00000
NORTH_LATITUDE: 48 3 45.00000
SOUTH_LATITUDE: 48 0 0.00000
PRODUCTION_DATE: 1998 12 15
RASTER_ORDER: LEFT_RIGHT/TOP_BOTTOM
BAND_ORGANIZATION: SINGLE FILE
BAND_CONTENT: BLACK&WHITE
BAND_CONTENT: UNDEFINED
BAND_CONTENT: UNDEFINED
BITS_PER_PIXEL: 8
SAMPLES_AND_LINES: 5520 7680
HORIZONTAL_DATUM: NAD83
HORIZONTAL_COORDINATE_SYSTEM: UTM
COORDINATE_ZONE: 12
HORIZONTAL_UNITS: METERS
HORIZONTAL_RESOLUTION: 1.00000
SECONDARY_HORIZONTAL_DATUM: NAD27
XY_ORIGIN: 378390.00000 5324850.00000
SECONDARY_XY_ORIGIN: 378451.76100 5324634.45300
NATION: US
STATE: MT
NW_QUAD_CORNER_XY: 378930.50400 5324524.17000
NE_QUAD_CORNER_XY: 383586.89900 5324427.79600
SE_QUAD_CORNERY_XY: 383446.01800 5317481.41300
SW_QUAD_CORNER_XY: 378783.98600 5317577.80900
SECONDARY_NW_QUAD_XY: 378926.68900 5324305.31600
SECONDARY_NE_QUAD_XY: 383583.23000 5324208.93900
SECONDARY_SE_QUAD_XY: 383442.35000 5317262.56900
SECONDARY_SW_QUAD_XY: 378780.17100 5317358.96800
RMSE_XY: 1.83000
IMAGE_SOURCE: BLACK AND WHITE FILM
SOURCE_IMAGE_ID: NAPP 8384 253
SOURCE_IMAGE_DATE: 1995 08 05
SOURCE_DEM_DATE: 1998 01 01
AGENCY: WESTERN MAPPING CENTER (WMC)
PRODUCER: ANALYTICAL SURVEYS INC.
PRODUCTION_SYSTEM: ORBIT OR_RECTIFY V.5.2
COMPRESSION: UNDEFINED
STANDARD_VERSION: 1996 12
METADATA_DATE: 1998 12 17
DATA_FILE_SIZE: 42399120
BYTE_COUNT: 5520
