FILENAME: O4811259.SWS.950128.tif
QUADRANGLE_NAME: VOLCANO REEF
QUADRANT: SW
WEST_LONGITUDE: -112 45 0.00000
EAST_LONGITUDE: -112 41 15.00000
NORTH_LATITUDE: 48 3 45.00000
SOUTH_LATITUDE: 48 0 0.00000
PRODUCTION_DATE: 1999 01 05
RASTER_ORDER: LEFT_RIGHT/TOP_BOTTOM
BAND_ORGANIZATION: SINGLE FILE
BAND_CONTENT: BLACK&WHITE
BAND_CONTENT: UNDEFINED
BAND_CONTENT: UNDEFINED
BITS_PER_PIXEL: 8
SAMPLES_AND_LINES: 5490 7680
HORIZONTAL_DATUM: NAD83
HORIZONTAL_COORDINATE_SYSTEM: UTM
COORDINATE_ZONE: 12
HORIZONTAL_UNITS: METERS
HORIZONTAL_RESOLUTION: 1.00000
SECONDARY_HORIZONTAL_DATUM: NAD27
XY_ORIGIN: 369090.00000 5325030.00000
SECONDARY_XY_ORIGIN: 369151.90800 5324814.42900
NATION: US
STATE: MT
NW_QUAD_CORNER_XY: 369617.76100 5324728.26200
NE_QUAD_CORNER_XY: 374274.12400 5324624.32500
SE_QUAD_CORNERY_XY: 374121.96800 5317677.98700
SW_QUAD_CORNER_XY: 369459.96600 5317781.94700
SECONDARY_NW_QUAD_XY: 369613.65200 5324509.41300
SECONDARY_NE_QUAD_XY: 374270.16300 5324405.47400
SECONDARY_SE_QUAD_XY: 374118.00700 5317459.15000
SECONDARY_SW_QUAD_XY: 369455.85800 5317563.11300
RMSE_XY: 3.20000
IMAGE_SOURCE: BLACK AND WHITE FILM
SOURCE_IMAGE_ID: NAPP 8386 103
SOURCE_IMAGE_DATE: 1995 08 05
SOURCE_IMAGE_ID: NAPP 8385 58
SOURCE_IMAGE_DATE: 1995 08 05
SOURCE_DEM_DATE: 1998 01 01
AGENCY: WESTERN MAPPING CENTER (WMC)
PRODUCER: ANALYTICAL SURVEYS INC.
PRODUCTION_SYSTEM: ORBIT OR_RECTIFY V.5.2
COMPRESSION: UNDEFINED
STANDARD_VERSION: 1996 12
METADATA_DATE: 1999 01 06
DATA_FILE_SIZE: 42168690
BYTE_COUNT: 5490
