FILENAME: O4811256.SES.943734.tif
QUADRANGLE_NAME: SAM GEORGE HILL
QUADRANT: SE
WEST_LONGITUDE: -112 3 45.00000
EAST_LONGITUDE: -112 0 0.00000
NORTH_LATITUDE: 48 11 15.00000
SOUTH_LATITUDE: 48 7 30.00000
PRODUCTION_DATE: 1998 12 09
RASTER_ORDER: LEFT_RIGHT/TOP_BOTTOM
BAND_ORGANIZATION: SINGLE FILE
BAND_CONTENT: BLACK&WHITE
BAND_CONTENT: UNDEFINED
BAND_CONTENT: UNDEFINED
BITS_PER_PIXEL: 8
SAMPLES_AND_LINES: 5430 7620
HORIZONTAL_DATUM: NAD83
HORIZONTAL_COORDINATE_SYSTEM: UTM
COORDINATE_ZONE: 12
HORIZONTAL_UNITS: METERS
HORIZONTAL_RESOLUTION: 1.00000
SECONDARY_HORIZONTAL_DATUM: NAD27
XY_ORIGIN: 420570.00000 5337990.00000
SECONDARY_XY_ORIGIN: 420631.39200 5337773.21200
NATION: US
STATE: MT
NW_QUAD_CORNER_XY: 421030.39500 5337686.18100
NE_QUAD_CORNER_XY: 425675.61200 5337623.85900
SE_QUAD_CORNERY_XY: 425585.28200 5330677.16900
SW_QUAD_CORNER_XY: 420934.41700 5330739.50600
SECONDARY_NW_QUAD_XY: 421027.90000 5337467.27700
SECONDARY_NE_QUAD_XY: 425673.26400 5337404.95300
SECONDARY_SE_QUAD_XY: 425582.93400 5330458.27500
SECONDARY_SW_QUAD_XY: 420931.92300 5330520.61400
RMSE_XY: 0.97000
IMAGE_SOURCE: BLACK AND WHITE FILM
SOURCE_IMAGE_ID: NAPP 9487 80
SOURCE_IMAGE_DATE: 1995 08 27
SOURCE_DEM_DATE: 1992 00 00
AGENCY: WESTERN MAPPING CENTER (WMC)
PRODUCER: ANALYTICAL SURVEYS INC.
PRODUCTION_SYSTEM: ORBIT OR_RECTIFY V.5.2
COMPRESSION: UNDEFINED
STANDARD_VERSION: 1996 12
METADATA_DATE: 1998 12 14
DATA_FILE_SIZE: 41382030
BYTE_COUNT: 5430
