FILENAME: O4811255.NES.943728.tif
QUADRANGLE_NAME: LONE MAN COULEE EAST
QUADRANT: NE
WEST_LONGITUDE: -112 11 15.00000
EAST_LONGITUDE: -112 7 30.00000
NORTH_LATITUDE: 48 15 0.00000
SOUTH_LATITUDE: 48 11 15.00000
PRODUCTION_DATE: 1998 12 09
RASTER_ORDER: LEFT_RIGHT/TOP_BOTTOM
BAND_ORGANIZATION: SINGLE FILE
BAND_CONTENT: BLACK&WHITE
BAND_CONTENT: UNDEFINED
BAND_CONTENT: UNDEFINED
BITS_PER_PIXEL: 8
SAMPLES_AND_LINES: 5430 7620
HORIZONTAL_DATUM: NAD83
HORIZONTAL_COORDINATE_SYSTEM: UTM
COORDINATE_ZONE: 12
HORIZONTAL_UNITS: METERS
HORIZONTAL_RESOLUTION: 1.00000
SECONDARY_HORIZONTAL_DATUM: NAD27
XY_ORIGIN: 411360.00000 5345070.00000
SECONDARY_XY_ORIGIN: 411421.62500 5344852.79200
NATION: US
STATE: MT
NW_QUAD_CORNER_XY: 411847.36900 5344768.87500
NE_QUAD_CORNER_XY: 416486.91300 5344699.01400
SE_QUAD_CORNERY_XY: 416385.18800 5337752.28100
SW_QUAD_CORNER_XY: 411739.99200 5337822.16000
SECONDARY_NW_QUAD_XY: 411844.58100 5344549.96300
SECONDARY_NE_QUAD_XY: 416484.27100 5344480.10000
SECONDARY_SE_QUAD_XY: 416382.54600 5337533.37900
SECONDARY_SW_QUAD_XY: 411737.20300 5337603.26000
RMSE_XY: 1.32000
IMAGE_SOURCE: BLACK AND WHITE FILM
SOURCE_IMAGE_ID: NAPP 8380 65
SOURCE_IMAGE_DATE: 1995 07 01
SOURCE_DEM_DATE: 1992 00 00
AGENCY: WESTERN MAPPING CENTER (WMC)
PRODUCER: ANALYTICAL SURVEYS INC.
PRODUCTION_SYSTEM: ORBIT OR_RECTIFY V.5.2
COMPRESSION: UNDEFINED
STANDARD_VERSION: 1996 12
METADATA_DATE: 1998 12 14
DATA_FILE_SIZE: 41382030
BYTE_COUNT: 5430
