FILENAME: O4811254.SWS.943727.tif
QUADRANGLE_NAME: LONE MAN COULEE WEST
QUADRANT: SW
WEST_LONGITUDE: -112 22 30.00000
EAST_LONGITUDE: -112 18 45.00000
NORTH_LATITUDE: 48 11 15.00000
SOUTH_LATITUDE: 48 7 30.00000
PRODUCTION_DATE: 1998 12 09
RASTER_ORDER: LEFT_RIGHT/TOP_BOTTOM
BAND_ORGANIZATION: SINGLE FILE
BAND_CONTENT: BLACK&WHITE
BAND_CONTENT: UNDEFINED
BAND_CONTENT: UNDEFINED
BITS_PER_PIXEL: 8
SAMPLES_AND_LINES: 5460 7680
HORIZONTAL_DATUM: NAD83
HORIZONTAL_COORDINATE_SYSTEM: UTM
COORDINATE_ZONE: 12
HORIZONTAL_UNITS: METERS
HORIZONTAL_RESOLUTION: 1.00000
SECONDARY_HORIZONTAL_DATUM: NAD27
XY_ORIGIN: 397290.00000 5338380.00000
SECONDARY_XY_ORIGIN: 397351.69800 5338163.35300
NATION: US
STATE: MT
NW_QUAD_CORNER_XY: 397804.47500 5338054.46300
NE_QUAD_CORNER_XY: 402449.63400 5337973.25000
SE_QUAD_CORNERY_XY: 402331.06800 5331026.64300
SW_QUAD_CORNER_XY: 397680.26000 5331107.87600
SECONDARY_NW_QUAD_XY: 397801.24600 5337835.57100
SECONDARY_NE_QUAD_XY: 402446.55300 5337754.35500
SECONDARY_SE_QUAD_XY: 402327.98600 5330807.76100
SECONDARY_SW_QUAD_XY: 397677.03200 5330888.99600
RMSE_XY: 0.81000
IMAGE_SOURCE: BLACK AND WHITE FILM
SOURCE_IMAGE_ID: NAPP 8381 87
SOURCE_IMAGE_DATE: 1995 07 28
SOURCE_DEM_DATE: 1985 00 00
AGENCY: WESTERN MAPPING CENTER (WMC)
PRODUCER: ANALYTICAL SURVEYS INC.
PRODUCTION_SYSTEM: ORBIT OR_RECTIFY V.5.2
COMPRESSION: UNDEFINED
STANDARD_VERSION: 1996 12
METADATA_DATE: 1998 12 14
DATA_FILE_SIZE: 41938260
BYTE_COUNT: 5460
