FILENAME: O4811252.NWS.943657.tif
QUADRANGLE_NAME: DUPUYER WEST
QUADRANT: NW
WEST_LONGITUDE: -112 37 30.00000
EAST_LONGITUDE: -112 33 45.00000
NORTH_LATITUDE: 48 15 0.00000
SOUTH_LATITUDE: 48 11 15.00000
PRODUCTION_DATE: 1998 12 08
RASTER_ORDER: LEFT_RIGHT/TOP_BOTTOM
BAND_ORGANIZATION: SINGLE FILE
BAND_CONTENT: BLACK&WHITE
BAND_CONTENT: UNDEFINED
BAND_CONTENT: UNDEFINED
BITS_PER_PIXEL: 8
SAMPLES_AND_LINES: 5490 7680
HORIZONTAL_DATUM: NAD83
HORIZONTAL_COORDINATE_SYSTEM: UTM
COORDINATE_ZONE: 12
HORIZONTAL_UNITS: METERS
HORIZONTAL_RESOLUTION: 1.00000
SECONDARY_HORIZONTAL_DATUM: NAD27
XY_ORIGIN: 378840.00000 5345670.00000
SECONDARY_XY_ORIGIN: 378902.01400 5345452.88000
NATION: US
STATE: MT
NW_QUAD_CORNER_XY: 379370.92900 5345363.67400
NE_QUAD_CORNER_XY: 384010.37700 5345267.36900
SE_QUAD_CORNERY_XY: 383869.07800 5338320.77400
SW_QUAD_CORNER_XY: 379223.97600 5338417.10300
SECONDARY_NW_QUAD_XY: 379367.11300 5345144.78100
SECONDARY_NE_QUAD_XY: 384006.70800 5345048.47300
SECONDARY_SE_QUAD_XY: 383865.40900 5338101.89000
SECONDARY_SW_QUAD_XY: 379220.16000 5338198.22200
RMSE_XY: 1.71000
IMAGE_SOURCE: BLACK AND WHITE FILM
SOURCE_IMAGE_ID: NAPP 8384 247
SOURCE_IMAGE_DATE: 1995 08 05
SOURCE_DEM_DATE: 1987 00 00
AGENCY: WESTERN MAPPING CENTER (WMC)
PRODUCER: ANALYTICAL SURVEYS INC.
PRODUCTION_SYSTEM: ORBIT OR_RECTIFY V.5.2
COMPRESSION: UNDEFINED
STANDARD_VERSION: 1996 12
METADATA_DATE: 1998 12 10
DATA_FILE_SIZE: 42168690
BYTE_COUNT: 5490
