FILENAME: O4811251.SWS.943655.tif
QUADRANGLE_NAME: SCOFFIN BUTTE
QUADRANT: SW
WEST_LONGITUDE: -112 45 0.00000
EAST_LONGITUDE: -112 41 15.00000
NORTH_LATITUDE: 48 11 15.00000
SOUTH_LATITUDE: 48 7 30.00000
PRODUCTION_DATE: 1998 12 08
RASTER_ORDER: LEFT_RIGHT/TOP_BOTTOM
BAND_ORGANIZATION: SINGLE FILE
BAND_CONTENT: BLACK&WHITE
BAND_CONTENT: UNDEFINED
BAND_CONTENT: UNDEFINED
BITS_PER_PIXEL: 8
SAMPLES_AND_LINES: 5490 7710
HORIZONTAL_DATUM: NAD83
HORIZONTAL_COORDINATE_SYSTEM: UTM
COORDINATE_ZONE: 12
HORIZONTAL_UNITS: METERS
HORIZONTAL_RESOLUTION: 1.00000
SECONDARY_HORIZONTAL_DATUM: NAD27
XY_ORIGIN: 369390.00000 5338950.00000
SECONDARY_XY_ORIGIN: 369452.06600 5338733.48700
NATION: US
STATE: MT
NW_QUAD_CORNER_XY: 369933.81900 5338621.09800
NE_QUAD_CORNER_XY: 374578.88900 5338517.21100
SE_QUAD_CORNERY_XY: 374426.43100 5331570.73300
SW_QUAD_CORNER_XY: 369775.71200 5331674.64500
SECONDARY_NW_QUAD_XY: 369929.71000 5338402.22300
SECONDARY_NE_QUAD_XY: 374574.92700 5338298.33300
SECONDARY_SE_QUAD_XY: 374422.46900 5331351.86800
SECONDARY_SW_QUAD_XY: 369771.60300 5331455.78300
RMSE_XY: 2.74000
IMAGE_SOURCE: BLACK AND WHITE FILM
SOURCE_IMAGE_ID: NAPP 8385 65
SOURCE_IMAGE_DATE: 1995 08 05
SOURCE_DEM_DATE: 1992 00 00
AGENCY: WESTERN MAPPING CENTER (WMC)
PRODUCER: ANALYTICAL SURVEYS INC.
PRODUCTION_SYSTEM: ORBIT OR_RECTIFY V.5.2
COMPRESSION: UNDEFINED
STANDARD_VERSION: 1996 12
METADATA_DATE: 1998 12 10
DATA_FILE_SIZE: 42333390
BYTE_COUNT: 5490
